BEGIN:VCALENDAR
VERSION:2.0
PRODID:-//Ausflüge &amp; Veranstaltungen für Kinder im Ostalbkreis - ECPv6.15.20//NONSGML v1.0//EN
CALSCALE:GREGORIAN
METHOD:PUBLISH
X-ORIGINAL-URL:https://ostalbkids.de
X-WR-CALDESC:Veranstaltungen für Ausflüge &amp; Veranstaltungen für Kinder im Ostalbkreis
REFRESH-INTERVAL;VALUE=DURATION:PT1H
X-Robots-Tag:noindex
X-PUBLISHED-TTL:PT1H
BEGIN:VTIMEZONE
TZID:UTC
BEGIN:STANDARD
TZOFFSETFROM:+0000
TZOFFSETTO:+0000
TZNAME:UTC
DTSTART:20230101T000000
END:STANDARD
END:VTIMEZONE
BEGIN:VEVENT
DTSTART;TZID=UTC:20241006T120000
DTEND;TZID=UTC:20241006T120000
DTSTAMP:20260421T101351
CREATED:20240329T135700Z
LAST-MODIFIED:20240421T084409Z
UID:2209-1728216000-1728216000@ostalbkids.de
SUMMARY:Miniatureisenbahn für Kinder zum Mitfahren\, Ebnat
DESCRIPTION:Dampfloks? Alles im kleinen Maßstab – zum Draufsitzen\, Mitfahren und Spaß haben. Diese Idee haben wir bis heute nicht aus den Augen verloren und aus dem kleinen Rundkurs ist bis heute eine große Vereinsanlage mit über 1.000 Meter Gleis\, eingebettet in eine romantische Miniaturwelt entstanden. Neben dem vereinseigenen Fuhrpark verkehren an den Fahrtagen auch ab und an Gastzüge\, welche die Vielfalt an verschiedenen Fahrzeugtypen bereichern. \nWir bieten für Jung und Alt den Zauber der Schiene – die Faszination des Dampfbetriebs. Es ist ein großer Spaß auf kleiner Spur! \nFahrtermine 2024  je von 12:00 – 18:00 Uhr \n1.Mai 2024 \n2. Juni 2024 \n7. Juli 2024 \n4. August 2024 \n1. September 2024 \n6. Oktober 2024 \nStandort: Ebnater Schättere Club e.V.\, Hohenberger Weg 23\, 73432 Aalen
URL:https://ostalbkids.de/event/miniatureisenbahn-fuer-kinder-zum-mitahren-ebnat-6/
END:VEVENT
BEGIN:VEVENT
DTSTART;TZID=UTC:20241019T183000
DTEND;TZID=UTC:20241019T200000
DTSTAMP:20260421T101351
CREATED:20241017T155607Z
LAST-MODIFIED:20241017T155607Z
UID:2647-1729362600-1729368000@ostalbkids.de
SUMMARY:Kindermusical\, Schlat
DESCRIPTION:Kindermusical „Zrikus Kriminale“\nin Schlat
URL:https://ostalbkids.de/event/kindermusical-schlat/
END:VEVENT
BEGIN:VEVENT
DTSTART;TZID=UTC:20241025T144500
DTEND;TZID=UTC:20241025T161500
DTSTAMP:20260421T101351
CREATED:20241017T155934Z
LAST-MODIFIED:20241017T160202Z
UID:2649-1729867500-1729872900@ostalbkids.de
SUMMARY:Mit Papa auf dem Bauernhof\, Göppingen-Jebenhausen
DESCRIPTION:Mit Papa auf dem Bauernhof Für Kinder ab 5 Jahre mit Begleitperson\nEntdecke den Waldeckhof! Tierische Abenteuer und Geschichten warten auf euch!\nBei diesem Ausflug werdet ihr den Waldeckhof und seine tierischen Bewohner kennenlernen. Ihr erfahrt\, wie der Bauernhof funktioniert\, welche Arbeiten getan werden müssen und wie die Tiere versorgt und gepflegt werden müssen.\nZuvor hört ihr im „Geschichtenzelt“ spannende Erzählungen mit und über Tiere und dürft auch selbst ein bisschen schmökern. Im Anschluss könnt ihr im Hofcafè einkehren oder euch im Hofladen mit den Bauernhofprodukten versorgen. Ein perfekter Mittag\, um gemeinsam Zeit zu verbringen und Neues kennen zu lernen.\nDas Angebot findet in Kooperation mit der Stadtbibliothek in Göppingen statt.  \nKursnummer 	N3405\nDozentin/Dozent 	Heiko Proft\nOrt\nWaldeckhof\, Göppingen-Jebenhausen\nWaldeckhof 1\, 73035 Göppingen-Jebenhausen\nRaum 	Waldeckhof\, Waldeckhof 1\, Göppingen-Jebenhausen\nGebühr 	5\,00 €\nTermine\nFr. 25.10.2024\n14:45 – 16:15 Uhr \nmax. Teilnehmer 	12
URL:https://ostalbkids.de/event/mit-papa-auf-dem-bauernhof-goeppingen-jebenhausen/
END:VEVENT
BEGIN:VEVENT
DTSTART;TZID=UTC:20241025T170000
DTEND;TZID=UTC:20241025T183000
DTSTAMP:20260421T101351
CREATED:20241017T160615Z
LAST-MODIFIED:20241017T160615Z
UID:2651-1729875600-1729881000@ostalbkids.de
SUMMARY:Kindermusical "Hakuna Matata"\, Heidenheim
DESCRIPTION:eine zauberhafte Rundreise durch viele Musicals (Disneyfilmen\, Kinderfilmen-und serien) \n25. Okt 17:00\nHeidenheim\, Congresszentrum
URL:https://ostalbkids.de/event/kindermusical-hakuna-matata-heidenheim-2/
END:VEVENT
BEGIN:VEVENT
DTSTART;TZID=UTC:20241027T100000
DTEND;TZID=UTC:20241027T150000
DTSTAMP:20260421T101351
CREATED:20241017T160758Z
LAST-MODIFIED:20241017T160758Z
UID:2654-1730023200-1730041200@ostalbkids.de
SUMMARY:Internationales Kinderfest\, Hofen bei Aalen
DESCRIPTION:
URL:https://ostalbkids.de/event/internationales-kinderfest-hofen-bei-aalen/
END:VEVENT
BEGIN:VEVENT
DTSTART;TZID=UTC:20241029T150000
DTEND;TZID=UTC:20241029T163000
DTSTAMP:20260421T101351
CREATED:20241017T160933Z
LAST-MODIFIED:20241017T160933Z
UID:2656-1730214000-1730219400@ostalbkids.de
SUMMARY:Kindertheater\, Göppingen
DESCRIPTION:Ort: Merlineum
URL:https://ostalbkids.de/event/kindertheater-goeppingen/
END:VEVENT
BEGIN:VEVENT
DTSTART;TZID=UTC:20241030T200000
DTEND;TZID=UTC:20241031T220000
DTSTAMP:20260421T101351
CREATED:20240909T065930Z
LAST-MODIFIED:20240909T070021Z
UID:2621-1730318400-1730412000@ostalbkids.de
SUMMARY:Helloweenparty\, Naturtheater - Heidenheim
DESCRIPTION:Begegnet Vampire\, Gespenster u.ä.\nGruselige Führungen im 20 Min. Takt.\nEssen und Fackeln gibt es zu kaufen. \n20:00-22:00 Uhr \nTickets unter: www.tourismus-heidenheim.de
URL:https://ostalbkids.de/event/helloweenparty-naturtheater-heidenheim/
END:VEVENT
END:VCALENDAR