BEGIN:VCALENDAR
VERSION:2.0
PRODID:-//Ausflüge &amp; Veranstaltungen für Kinder im Ostalbkreis - ECPv6.15.20//NONSGML v1.0//EN
CALSCALE:GREGORIAN
METHOD:PUBLISH
X-WR-CALNAME:Ausflüge &amp; Veranstaltungen für Kinder im Ostalbkreis
X-ORIGINAL-URL:https://ostalbkids.de
X-WR-CALDESC:Veranstaltungen für Ausflüge &amp; Veranstaltungen für Kinder im Ostalbkreis
REFRESH-INTERVAL;VALUE=DURATION:PT1H
X-Robots-Tag:noindex
X-PUBLISHED-TTL:PT1H
BEGIN:VTIMEZONE
TZID:UTC
BEGIN:STANDARD
TZOFFSETFROM:+0000
TZOFFSETTO:+0000
TZNAME:UTC
DTSTART:20230101T000000
END:STANDARD
END:VTIMEZONE
BEGIN:VEVENT
DTSTART;TZID=UTC:20240705T080000
DTEND;TZID=UTC:20240709T170000
DTSTAMP:20260421T151439
CREATED:20240421T083753Z
LAST-MODIFIED:20240421T083753Z
UID:2274-1720166400-1720544400@ostalbkids.de
SUMMARY:Ipfmesse\, Bopfingen
DESCRIPTION:das größte Volksfest im Ostalbkreis
URL:https://ostalbkids.de/event/ipfmesse-bopfingen/
END:VEVENT
BEGIN:VEVENT
DTSTART;TZID=UTC:20240707T110000
DTEND;TZID=UTC:20240707T120000
DTSTAMP:20260421T151439
CREATED:20240605T160923Z
LAST-MODIFIED:20240605T160923Z
UID:2450-1720350000-1720353600@ostalbkids.de
SUMMARY:Schlossführung für Kinder\, Kapfenburg
DESCRIPTION:Napoleon und der Koch   \nHahn Napoleon lebt glücklich und zufrieden auf Schloss Kapfenburg. Zumindest bis ein neuer Koch auf das Schloss zieht. Denn der kann Napoleon nicht leiden\, da sein Namensvetter Napoleon Bonaparte den Deutschen Orden und mit ihm die Ritter vom Schloss vertrieben hat. Um sich zu rächen\, beschließt der Koch\, Napoleon zu Hühnersuppe zu verarbeiten. Die spannende Flucht des Hahns durch das Schloss beginnt – und mit ihr eine kindgerechte Reise durch die Geschichte der ehemaligen Deutschordensfeste.   \nDie Führung eignet sich für Kinder bis ~8 Jahre.\nSonntag\, 07. Juli 2024\, 11.00 Uhr\, Treffpunkt unterer Torbogen \nPreise\n5\,00 Euro Kinder\n3\,00 Euro Erwachsene\nEs ist keine Anmeldung erforderlich\, die Bezahlung erfolgt vor Ort in bar.  Treffpunkt ist der untere Torbogen vor dem Schloss.
URL:https://ostalbkids.de/event/schlossfuehrung-fuer-kinder-kapfenburg/
END:VEVENT
BEGIN:VEVENT
DTSTART;VALUE=DATE:20240712
DTEND;VALUE=DATE:20240714
DTSTAMP:20260421T151439
CREATED:20240421T083027Z
LAST-MODIFIED:20240709T171310Z
UID:2270-1720742400-1720915199@ostalbkids.de
SUMMARY:Mountainbike Weltcup UCI\, Aalen
DESCRIPTION:Am 12. Juli ab 13:30 Uhr können Kinder bis 14 Jahre auf der Rennstrecke fahren. Es gibt auch Einweisung und Balanceübungen. \n13. Juli 2024\nUCI-Mountainbike Sprint-Weltmeisterschaft\n2022 und 2023 säumten rund 15.000 Zuschauer bei den beiden Mountainbike-Eliminator-Weltcups die Strecke in der Aalener Innenstadt. Das dritte Event im Juli 2024 wird nun ein ganz besonderes: Die UCI-Mountainbike-Sprint-Weltmeisterschaft. \nGraz\, Barcelona und nun reiht sich Aalen in die namhafte Liste ein. In der 68.000-Einwohner-Stadt auf der Ostalb wird am 13. Juli 2024 der Mountainbike-Eliminator-Weltmeister gekürt.  \nAuch in den Folgejahren 2025 und 2026 wird die Weltelite der Mountainbikesprinter in Aalen zu einem Weltcup zu Gast sein\, eine Bedingung die die UCI an die Austragung der WM geknüpft hat.
URL:https://ostalbkids.de/event/mountainbike-weltcup-uci-aalen/
LOCATION:Aalener Innenstadt\, Marktplatz 1\, Aalen\, 73430
END:VEVENT
BEGIN:VEVENT
DTSTART;TZID=UTC:20240725T080000
DTEND;TZID=UTC:20240907T170000
DTSTAMP:20260421T151439
CREATED:20240726T154621Z
LAST-MODIFIED:20240726T160634Z
UID:2541-1721894400-1725728400@ostalbkids.de
SUMMARY:seeehr viele Angebote im Ferienprogramm der Stadt Aalen - Programmheft gibt es hier
DESCRIPTION:Programm der Stadt Aalen: Aalen_-_SJR_-_Ferienprogramm_2024_-_Programmheft_(1) \nvom Haus der Jugend/ Weststadtzentrum\nDatum 	  	        Veranstalter                    Ort                             Was       	Alter 	Gebühr 	Plätze\nSA 27.07. 	  	Haus der Jugend Aalen	        Schlossspielplatz Wasseralfi    Blauwagen und Mandalas 	0\,00€\nMO 29.07. 	  	Jugendt. WeststadtZent	        Wasseralfingen	                Grillausflug 	ab 10 	5\,00€ 	15\nDI 30.07. 	  	Haus der Jugend Aalen		Stadtgarten Aalen	        Blauwagen Märchenbrunnen 		0\,00€\nDI 30.07. 	  	Haus der Jugend Aalen		Stadtgarten Aalen	        Blauwagen und Zirkus Zeltlos 		0\,00€\nDO 01.08. 	  	Haus der Jugend Aalen		Schlossspielplatz Wasseralfi    Blauwagen Flohtanz 		0\,00€\nFR 02.08. 	  	Jugendt. WeststadtZent		Aalen – Itzelberg	        Ausflug zur Minigolfanlage am Itzelberger See 	ab 9 	7\,00€\nSO 04.08. 	  	Haus der Jugend Aalen		Haus der Jugend	                Ausflug zur Falknerei Kraus Abtsgmünd 	9-12 	25\,00€ 	7\nMO 05.08. 	  	Jugendt. WeststadtZent		Aalen – München	                Besuch des Bavaria Filmstudios München 	ab 10 	30\,00€\nDI 06.08. 	  	Haus der Jugend Aalen		Friedhofstraße 8 in 73430 Aa    Ausflug zum Wildpark in Bad Mergentheim 	10-14 	20\,00€\nDI 06.08. 	  	Haus der Jugend Aalen		Schlossspielplatz Wasseralfi	Blauwagen Jonglierwerkstatt 		0\,00€\nMI 07.08. 	  	Jugendt. WeststadtZent		Aalen – Scheidegg	        Ausflug zum Skywalk ins Allgäu 	ab 9 	15\,00€\nMI 07.08. 	  	Haus der Jugend Aalen		Friedhofstraße 8 in 73430 Aa	Die befleckte Schönheit – Wir besuchen die Sternwarte 	8-12 	0\,00€\nDO 08.08. 	  	                                Schlossspielplatz Wasseralfi	Blauwagen Basteln mit Papier 		0\,00€\nFR 09.08. 	  	Jugendtreff im WeststadtZent	Sommerferienprogramm 2024	Freibad in Unterrombach	Familientag im Bädle 		0\,00€\nDI 13.08. 	  	Haus der Jugend Aalen		Schlossspielplatz Wasseralfi	Blauwagen und Animation 	0\,00€\nDI 20.08. 	  	Haus der Jugend Aalen		Schlossspielplatz Wasseralfi	Blauwagen und Märchenbrunnen 	0\,00€\nDO 22.08. 	  	Haus der Jugend Aalen		Schlossspielplatz Wasseralfi	Blauwagen und Werkeln 		0\,00€\nDO 29.08. 	  	Haus der Jugend Aalen		Schlossspielplatz Wasseralfi	Blauwagen und Pflanzendrucke 	0\,00€\nDI 03.09. 	  	Haus der Jugend Aalen		Spielplatz an der Hochbrücke	Blauwagen und Werkeln 		0\,00€\nDO 05.09. 	  	Haus der Jugend Aalen		Spielplatz an der Hochbrücke	Blauwagen und Flohtanz  \noder bei der Stadthomepage unter: https://www.aalen.de/ferienprogramm.108594.25.htm
URL:https://ostalbkids.de/event/ferienprogramm-der-stadt-aalen-2/
END:VEVENT
BEGIN:VEVENT
DTSTART;TZID=UTC:20240725T140000
DTEND;TZID=UTC:20240725T180000
DTSTAMP:20260421T151439
CREATED:20240725T042935Z
LAST-MODIFIED:20240725T042935Z
UID:2507-1721916000-1721930400@ostalbkids.de
SUMMARY:Stockbrotparty Stadtgarten\, Aalem
DESCRIPTION:Das Haus der Jugend veranstaltet eine Stockbrotparty.
URL:https://ostalbkids.de/event/stockbrotparty-stadtgarten-aalem/
END:VEVENT
BEGIN:VEVENT
DTSTART;TZID=UTC:20240726T150000
DTEND;TZID=UTC:20240726T163000
DTSTAMP:20260421T151439
CREATED:20240719T111225Z
LAST-MODIFIED:20240719T111225Z
UID:2505-1722006000-1722011400@ostalbkids.de
SUMMARY:Mit MitmachMusikBauchrednershow auf Weltreise\, Böbingen
DESCRIPTION:„EINE WELTREISE MIT HITS FÜR KIDS!“ \nSommerferienprogramm-Eröffnung mit Tobias Gnacke \nBürgersaal im Rathaus bzw. im Park am Bahndamm \nKarten gibt es im Bürgerbüro des Rathauses oder in unserem Online-Shop \nIn der Kindershow für Kinder von 3 bis 10 Jahren bezieht Tobias die kleinen und großen Gäste ins Geschehen mit ein. Die MitmachMusikBauchrednershow nimmt die Kinder mit auf eine Weltreise\, auf der allerlei Zaungäste den Weg kreuzen. Da plappert der freche Pinguin Richy über den Südpol\, der Hase Rüdiger sinniert über die Sonne Afrikas\, der Affenkönig Louis besingt den undurchdringlichen Dschungel und der verschlafene Koala Quincy schwärmt von Australien. Und auf allen Stationen der Reise wird gemeinsam musiziert und gesungen\, getrommelt und gepfiffen\, gelacht und aufgepasst\, dass die Reise gelingt. Ein MitspielMusikTheater\, das Klein und Groß begeistert! \nwww.toby-entertainment.de
URL:https://ostalbkids.de/event/mit-mitmachmusikbauchrednershow-auf-weltreise-boebingen/
END:VEVENT
BEGIN:VEVENT
DTSTART;TZID=UTC:20240727T140000
DTEND;TZID=UTC:20240727T160000
DTSTAMP:20260421T151439
CREATED:20240727T041855Z
LAST-MODIFIED:20240727T041855Z
UID:2551-1722088800-1722096000@ostalbkids.de
SUMMARY:"Highland Games für Kinder"\, Musikverein Unterkochen
DESCRIPTION:Festplatz am Kocherursprung
URL:https://ostalbkids.de/event/highland-games-fuer-kinder-musikverein-unterkochen/
END:VEVENT
BEGIN:VEVENT
DTSTART;TZID=UTC:20240728T100000
DTEND;TZID=UTC:20240728T180000
DTSTAMP:20260421T151439
CREATED:20240421T083326Z
LAST-MODIFIED:20240421T083326Z
UID:2272-1722160800-1722189600@ostalbkids.de
SUMMARY:Sammelsuriummuseum Festtag\, Fachsenfeld
DESCRIPTION:Das Sammelsuriummeuseum stellt auf 3.000 qm Allerlei aus.\nAm 28. Juli ist das Museumsfest.
URL:https://ostalbkids.de/event/sammelsuriummuseum-festtag-fachsenfeld/
END:VEVENT
BEGIN:VEVENT
DTSTART;TZID=UTC:20240730T094500
DTEND;TZID=UTC:20240730T110000
DTSTAMP:20260421T151439
CREATED:20240726T151515Z
LAST-MODIFIED:20240726T151515Z
UID:2509-1722332700-1722337200@ostalbkids.de
SUMMARY:explorhino "Chemisches Chamäleon"\, Aalen
DESCRIPTION:Blaukraut bleibt Blaukraut – oder doch nicht? Gemeinsam gehen wir dem Farbgeheimnis des Blaukrauts auf den Grund und finden heraus\, was manche Pflanzen dazu bringt ihre Farbe zu wechseln. Erkundet mit uns die kunterbunte Farbchemie des Chamäleons unter den Gemüsesorten und nehmt am Ende eure eigenen Chamäleonperlen mit nach Hause. \n**************************** \nGeeignet für Kinder von 9 – 12 Jahren. \nNach dem Kurs gibt es in unserer interaktiven Ausstellung noch weitere Experimente zu entdecken und auszuprobieren. \n**************************** \nDieser Termin ist Teil des Sommerferienprogramms der Jungen VHS Heidenheim. \nAnmeldung bei der VHS Heidenheim per Mail: info@vhs-heidenheim.de oder Tel.: 07321-327 4422
URL:https://ostalbkids.de/event/explorhino-chemisches-chamaeleon-aalen/
LOCATION:explorhino\, Beethovenstraße 12\, Aalen\, 73430\, Deutschland
ORGANIZER;CN="explorhino":MAILTO:inof@explorhino.de
END:VEVENT
END:VCALENDAR