BEGIN:VCALENDAR
VERSION:2.0
PRODID:-//Ausflüge &amp; Veranstaltungen für Kinder im Ostalbkreis - ECPv6.15.20//NONSGML v1.0//EN
CALSCALE:GREGORIAN
METHOD:PUBLISH
X-WR-CALNAME:Ausflüge &amp; Veranstaltungen für Kinder im Ostalbkreis
X-ORIGINAL-URL:https://ostalbkids.de
X-WR-CALDESC:Veranstaltungen für Ausflüge &amp; Veranstaltungen für Kinder im Ostalbkreis
REFRESH-INTERVAL;VALUE=DURATION:PT1H
X-Robots-Tag:noindex
X-PUBLISHED-TTL:PT1H
BEGIN:VTIMEZONE
TZID:UTC
BEGIN:STANDARD
TZOFFSETFROM:+0000
TZOFFSETTO:+0000
TZNAME:UTC
DTSTART:20230101T000000
END:STANDARD
END:VTIMEZONE
BEGIN:VEVENT
DTSTART;TZID=UTC:20240302T100000
DTEND;TZID=UTC:20240302T113000
DTSTAMP:20260421T204459
CREATED:20231116T181936Z
LAST-MODIFIED:20240215T152948Z
UID:1897-1709373600-1709379000@ostalbkids.de
SUMMARY:Vorstellung Theodor Heuss Gymnasium
DESCRIPTION:Theodor-Heuss-\nGymnasium\nFriedrichstr. 70\n73430 Aalen\n07361/9560-3\ninfo@thgaalen.de\nwww.thgaalen.de\nSchulleiter: Dr. Christoph Hatscher\nInfo-Veranstaltung:\nSamstag\, 02.03.2024\, 10.00 Uhr
URL:https://ostalbkids.de/event/vorstellung-theodor-heuss-gymnasium/
END:VEVENT
BEGIN:VEVENT
DTSTART;TZID=UTC:20240304T100000
DTEND;TZID=UTC:20240304T170000
DTSTAMP:20260421T204459
CREATED:20240304T101718Z
LAST-MODIFIED:20240304T101718Z
UID:2119-1709546400-1709571600@ostalbkids.de
SUMMARY:60 Jahre Limesmuseum\, Aalen
DESCRIPTION:
URL:https://ostalbkids.de/event/60-jahre-limesmuseum-aalen/
LOCATION:Limesmuseum Aalen\, St.-Johann-Straße 5\, Aalen\, 73430\, Deutschland
END:VEVENT
BEGIN:VEVENT
DTSTART;TZID=UTC:20240309T100000
DTEND;TZID=UTC:20240309T120000
DTSTAMP:20260421T204459
CREATED:20240302T172835Z
LAST-MODIFIED:20240302T172835Z
UID:2111-1709978400-1709985600@ostalbkids.de
SUMMARY:Kinderbasar im evangelischen Gemeindehaus\, Aalen
DESCRIPTION:Kinderbasar im evangelischen Gemeindehaus\, Friedhofstr. 5\, 73430 Aalen\n9. März 2024   10:00 – 12:00 Uhr (Schwangere ab 9:30) \nAlles rund ums Kind: Baby- und Kinderbekleidung\, Umstandsmode\, Spielzeug\, Bücher\, … \nWaffel- und Kuchenverkauf. \nVerkäufer bitte anmelden bei elternbeirat.lilliput@gmx.de
URL:https://ostalbkids.de/event/kinderbasar-im-evangelischen-gemeindehaus-aalen/
END:VEVENT
BEGIN:VEVENT
DTSTART;TZID=UTC:20240309T100000
DTEND;TZID=UTC:20240309T120000
DTSTAMP:20260421T204459
CREATED:20240302T173417Z
LAST-MODIFIED:20240302T173417Z
UID:2114-1709978400-1709985600@ostalbkids.de
SUMMARY:Kinderbasar DRK\, Essingen
DESCRIPTION:Frühjahr – Sommer – Basar „Alles für’s Kind“ des Deutsche roten Kreuz\, Essingen\nin der Remshalle\, Essingen \nSamstag 9. Märzn 2024\, 10:00 – 12:00 Uhr \nNummernvergabe ausschließlich unter: www.easybasar.de \nNähere Infos unter basar-essingen@gmx.de oder 0162 89 11 796 \nFür das leibliche Wohl sorgt die Klasse 7 der Parkschule Essingen
URL:https://ostalbkids.de/event/kinderbasar-drk-essingen/
END:VEVENT
BEGIN:VEVENT
DTSTART;TZID=UTC:20240310T133000
DTEND;TZID=UTC:20240310T170000
DTSTAMP:20260421T204459
CREATED:20240106T113441Z
LAST-MODIFIED:20240106T113441Z
UID:2025-1710077400-1710090000@ostalbkids.de
SUMMARY:Schw.Albverein\, Fliegende Museum in Elchingen
DESCRIPTION:Famileingruppe mit Hauptgruppe/Familiengruppe/Senioren: Besuch des „Fliegenden Museums“ in Elchingen \nSonntag – gemeinsam mit der Hauptgruppen und unseren Senioren und der Familiengruppe \nHier können jung und alt historische Flugzeuge\, fast alle Baujahr 1936 – 1954\, bestaunen. \nAnmeldung bis 02.03.24 erforderlich bei Georg Surek\, Tel. 07361-8131958 oder georg.surek@gmx.de \nTreffpunkt 12.30 Uhr Greutplatz (Fahrgemeinschaften)\, Einkehr ist geplant.
URL:https://ostalbkids.de/event/schw-albverein-fliegende-museum-in-elchingen/
END:VEVENT
BEGIN:VEVENT
DTSTART;VALUE=DATE:20240312
DTEND;VALUE=DATE:20240318
DTSTAMP:20260421T204459
CREATED:20240311T201619Z
LAST-MODIFIED:20240316T180313Z
UID:2124-1710201600-1710719999@ostalbkids.de
SUMMARY:Internationales Kinderkinofestival\, Schw. Gmünd
DESCRIPTION:Das Internationale Kinderkinofestival Schwäbisch Gmünd ist zurück an seinem festen Termin im Jahreskalender. Vom 11. bis 17. März laden wir zur 31. Ausgabe in die Gmünder Kinos ein! Im Mittelpunkt des „Kikife“ steht – wie könnte es anders sein – der zeitgenössische Kinder- und Jugendfilm. \nTRAUMPALAST SCHWÄBISCH GMÜND\nTÜRLENSTEG 29\n73525 SCHWÄBISCH GMÜND\n0711 55090770\nGD-INFO@TRAUMPALAST.DE \nBRAZILKINO\nWALTER DEININGER\nHIRSCHGÄSSLE 7\n73525 SCHWÄBISCH GMÜND\n07171 9782957\nWALTER.DEININGER(AT)KIKIFE.DE \nALLGEMEINE FRAGEN UND ANREGUNGEN ZUM KIKIFE\nWALTER.DEININGER(AT)KIKIFE.DE\nKikife.de
URL:https://ostalbkids.de/event/internationales-kinderkinofestifal-schw-gmuen/
END:VEVENT
BEGIN:VEVENT
DTSTART;TZID=UTC:20240317T150000
DTEND;TZID=UTC:20240317T173000
DTSTAMP:20260421T204459
CREATED:20231227T160748Z
LAST-MODIFIED:20231227T160748Z
UID:1973-1710687600-1710696600@ostalbkids.de
SUMMARY:Dschungelbuch - Das Musical\, Aalen
DESCRIPTION:Turbulente Dschungel-Action über Freundschaften\, die Grenzen überwinden: Im energiegeladenen Musical „Dschungelbuch“ erwacht der Urwald zum Leben. Mogli und seine tierischen Freunde nehmen Klein und Groß mit auf eine abenteuerliche Reise. Eigens komponierte Musicalhits\, viel Spannung und Humor sorgen für ein unterhaltsames Live-Erlebnis für die ganze Familie!
URL:https://ostalbkids.de/event/dschungelbuch-das-musical-aalen/
END:VEVENT
BEGIN:VEVENT
DTSTART;TZID=UTC:20240320T080000
DTEND;TZID=UTC:20240320T170000
DTSTAMP:20260421T204459
CREATED:20231227T154218Z
LAST-MODIFIED:20231227T154218Z
UID:1961-1710921600-1710954000@ostalbkids.de
SUMMARY:Elmar\, Theater der Stadt Aalen
DESCRIPTION:Elmar ist eine szenische Lesung für Kinder ab 3 Jahren. \nElmar ist ein Elefant. Allerdings ist er kein bisschen elefantenfarben wie seine Herde um ihn herum – er ist kunterbunt! Er trägt alle Farben\, die man sich nur vorstellen kann und ist für die Elefantenherde oft ein Farbklecks im grauen Alltag. Elmar stiftet seine Mitlebewesen oft dazu an\, neue Erfahrungen zu machen. Er begegnet jedem Abenteuer mit Freude und ist immer bereit\, sie mit seinen Freunden zu durchleben!
URL:https://ostalbkids.de/event/elmar-theater-der-stadt-aalen/
END:VEVENT
BEGIN:VEVENT
DTSTART;TZID=UTC:20240320T150000
DTEND;TZID=UTC:20240320T160000
DTSTAMP:20260421T204459
CREATED:20230925T190441Z
LAST-MODIFIED:20230925T190441Z
UID:1724-1710946800-1710950400@ostalbkids.de
SUMMARY:Elmar\, szenische Lesung\, Aalen
DESCRIPTION:ELMAR\nVON DAVID MCKEE \nElmar ist ein Elefant. Allerdings ist er kein bisschen elefantenfarben wie seine Herde um ihn herum – er ist kunterbunt! Er trägt alle Farben\, die man sich nur vorstellen kann und ist für die Elefantenherde oft ein Farbklecks im grauen Alltag. Elmar stiftet seine Mitlebewesen oft dazu an\, neue Erfahrungen zu machen. Er begegnet jedem Abenteuer mit Freude und ist immer bereit\, sie mit seinen Freunden zu durchleben! \nElmar ist eine szenische Lesung für Kinder ab 3 Jahren. Sie ist mobil und kann direkt auf dem Teppich von Kindertagesstätten gespielt werden.
URL:https://ostalbkids.de/event/elmar-szenische-lesung-aalen/
LOCATION:KulturBahnhof Aalen\, Georg-Elser-Platz 1\, Aalen\, 73431\, Deutschland
END:VEVENT
BEGIN:VEVENT
DTSTART;TZID=UTC:20240323T100000
DTEND;TZID=UTC:20240323T100000
DTSTAMP:20260421T204459
CREATED:20240101T195003Z
LAST-MODIFIED:20240101T195003Z
UID:1988-1711188000-1711188000@ostalbkids.de
SUMMARY:Gewässerführung am Remsursprung\, Essingen
DESCRIPTION:WELTWASSERTAG am 23. März 2024\, 10:00 Uhr  \nGewässerführung am Remsursprung Woher kommt das Wasser in der Rems? Welche Pflanzen und Tiere leben in und an der Rems? Wir bekommen einen Blick in die faszinierende Welt unterhalb der Wasseroberfläche. Treffpunkt: Remsursprung.  \nBitte Gummistiefel oder feste Schuhe mitbringen\, da wir auch ins Wasser gehen (nur wer möchte)\, wir keschern und wir bestimmen die kleinen Tierchen.  \nFür Erwachsene und für Familien mit Kindern sowie für Gruppen geeignet. Strecke: ca.2 km\, Dauer: 2 Stunden  \nKeıne Anmeldung erforderlich. Keine Kosten.  \nSusanne Lipp\, Gewässerführerin. sus.essingen@gmail.com
URL:https://ostalbkids.de/event/gewaesserfuehrung-am-remsursprung-essingen/
END:VEVENT
BEGIN:VEVENT
DTSTART;TZID=UTC:20240324T080000
DTEND;TZID=UTC:20240324T170000
DTSTAMP:20260421T204459
CREATED:20240324T120318Z
LAST-MODIFIED:20240324T120318Z
UID:2168-1711267200-1711299600@ostalbkids.de
SUMMARY:Waldweihnacht des Schw. Albvereins\, Aalen
DESCRIPTION:Waldweihnacht des Schw. Albvereins – Familiengruppe\, Aalen \nTeilnahme bitte klären mit:\nTeresa Nar\, Telefon 07361/8120302\nFamiliengruppe-Aalen@gmx.de
URL:https://ostalbkids.de/event/waldweihnacht-des-schw-albvereins-aalen/
END:VEVENT
BEGIN:VEVENT
DTSTART;TZID=UTC:20240325T160000
DTEND;TZID=UTC:20240325T173000
DTSTAMP:20260421T204459
CREATED:20240323T171724Z
LAST-MODIFIED:20240323T171724Z
UID:2146-1711382400-1711387800@ostalbkids.de
SUMMARY:Bau eines Vogelhauses\, Aalen
DESCRIPTION:Bau eines Vogelfutterhauses \nEin einfacher Getränkekarton wird zum Vogelhaus. Dieses Vogelfutterhaus ist nicht nur ein\nHingucker auf Balkon\, Terrasse oder im Garten\, sondern auch günstig und schnell gebastelt. \nAlter: 	8-10 Jahre\nGebühr: 	kostenlos\nPlätze: 	8  \nOrt\nHaus der Jugend
URL:https://ostalbkids.de/event/bau-eines-vogelhauses-aalen/
LOCATION:Haus der Jugend\, Aalen\, Friedhofstraße 8\, Aalen\, 73430\, Deutschland
END:VEVENT
BEGIN:VEVENT
DTSTART;TZID=UTC:20240325T163000
DTEND;TZID=UTC:20240325T180000
DTSTAMP:20260421T204459
CREATED:20240323T170239Z
LAST-MODIFIED:20240323T170239Z
UID:2138-1711384200-1711389600@ostalbkids.de
SUMMARY:Jonglier-Treff\, Aalen
DESCRIPTION:In unseren regelmäßigen Jonglier-Treffen\, immer montags von 16.30 Uhr bis 18 Uhr im Haus der Jugend in Aalen\, besteht die Möglichkeit\, sich in der Vielfalt an Jonglier-Requisiten auszuprobieren und das Jonglieren zu erlernen. Im gemeinsamen Spiel mit der Schwerkraft geht es um ein harmonisches Miteinander\, ineinanderfließende Abläufe und die Entwicklung eines gemeinsamen Rhythmus. \nOrt\nHaus der Jugend
URL:https://ostalbkids.de/event/jonglier-treff-aalen/
END:VEVENT
BEGIN:VEVENT
DTSTART;VALUE=DATE:20240326
DTEND;VALUE=DATE:20240329
DTSTAMP:20260421T204459
CREATED:20240324T121448Z
LAST-MODIFIED:20240324T121448Z
UID:2171-1711411200-1711670399@ostalbkids.de
SUMMARY:Explorhino "Bauen und Konstruieren"\, Aalen
DESCRIPTION:Parallel zur Ausstellung bieten wir in unserer Technikwerkstatt Experimente und Bastelaktionen rund ums Thema „Bauen und Konstruieren“.  Hier kannst du mit verschiedenen Materialien und Bausteinen Fahrzeuge\, Brücken oder Türme bauen und konstruieren. Die ganz Kleinen können mit unserer magnetischen Qvolution eigene Murmelbahnen bauen. \nDie Technikwerkstatt ist von Dienstag bis Donnerstag immer von 11 – 13 Uhr und 14 – 16 Uhr geöffnet. \nORT: explorhino\, Beethovenstr. 12 in Aalen
URL:https://ostalbkids.de/event/explorhino-bauen-und-konstruieren-aalen/
LOCATION:explorhino\, Beethovenstraße 12\, Aalen\, 73430\, Deutschland
ORGANIZER;CN="explorhino":MAILTO:inof@explorhino.de
END:VEVENT
BEGIN:VEVENT
DTSTART;TZID=UTC:20240326T160000
DTEND;TZID=UTC:20240326T173000
DTSTAMP:20260421T204459
CREATED:20240323T165909Z
LAST-MODIFIED:20240323T165909Z
UID:2136-1711468800-1711474200@ostalbkids.de
SUMMARY:Osterbrot backen\, Aalen
DESCRIPTION:Di\, 26.03.2024 16:00 – 18:30 \nTreffpunkt\nJugendtreff im WeststadtZentrum
URL:https://ostalbkids.de/event/osterbrot-backen-aalen/
END:VEVENT
BEGIN:VEVENT
DTSTART;TZID=UTC:20240327T140000
DTEND;TZID=UTC:20240327T153000
DTSTAMP:20260421T204459
CREATED:20240323T170709Z
LAST-MODIFIED:20240323T170709Z
UID:2142-1711548000-1711553400@ostalbkids.de
SUMMARY:Kreativ Kurs\, Aalen
DESCRIPTION:Kreativ Kurs in Kooperation mit der Greutschule Aalen \nKategorie\nBasteln\, Tüfteln\, Experimentieren \nOrt\nHolzwerkstatt \nSonstiges\nKursleiter: Frank Schmidt
URL:https://ostalbkids.de/event/kreativ-kurs-aalen/
END:VEVENT
BEGIN:VEVENT
DTSTART;TZID=UTC:20240327T160000
DTEND;TZID=UTC:20240327T180000
DTSTAMP:20260421T204459
CREATED:20240323T171041Z
LAST-MODIFIED:20240323T171041Z
UID:2144-1711555200-1711562400@ostalbkids.de
SUMMARY:Sportgruppe für Jungs\, Aalen
DESCRIPTION:Wir treffen uns im Jugendtreff und gehen zusammen in die Turnhalle der Braunenbergschule zum Kicken\, Basketballspielen\, Bewegen. Bitte Sportkleidung\, Hallenturnschuhe\, Getränke und bei Bedarf Duschzeug mitbringen.  \nBitte bis spätestens 15.00 Uhr telefonisch (07361971454) oder direkt im Jugendtreff anmelden. \nTreffpunkt\nJugendtreff Wasseralfingen Geschwister- Schabel- Str. 5\nWer: 	nur Jungs\nAlter: 	12-16 Jahre\nGebühr: 	kostenlos
URL:https://ostalbkids.de/event/sportgruppe-fuer-jungs-aalen/
END:VEVENT
BEGIN:VEVENT
DTSTART;TZID=UTC:20240330T130000
DTEND;TZID=UTC:20240330T170000
DTSTAMP:20260421T204459
CREATED:20240322T054338Z
LAST-MODIFIED:20240322T054338Z
UID:2134-1711803600-1711818000@ostalbkids.de
SUMMARY:Modelleisenbahn\, Aalen
DESCRIPTION:Tag der offenen Tür bei den Modelleisenbahnfreunden an der Schättere.
URL:https://ostalbkids.de/event/modelleisenbahn-aalen/
END:VEVENT
END:VCALENDAR