BEGIN:VCALENDAR
VERSION:2.0
PRODID:-//Ausflüge &amp; Veranstaltungen für Kinder im Ostalbkreis - ECPv6.15.20//NONSGML v1.0//EN
CALSCALE:GREGORIAN
METHOD:PUBLISH
X-ORIGINAL-URL:https://ostalbkids.de
X-WR-CALDESC:Veranstaltungen für Ausflüge &amp; Veranstaltungen für Kinder im Ostalbkreis
REFRESH-INTERVAL;VALUE=DURATION:PT1H
X-Robots-Tag:noindex
X-PUBLISHED-TTL:PT1H
BEGIN:VTIMEZONE
TZID:UTC
BEGIN:STANDARD
TZOFFSETFROM:+0000
TZOFFSETTO:+0000
TZNAME:UTC
DTSTART:20220101T000000
END:STANDARD
END:VTIMEZONE
BEGIN:VEVENT
DTSTART;VALUE=DATE:20231208
DTEND;VALUE=DATE:20240205
DTSTAMP:20260421T230944
CREATED:20231203T182351Z
LAST-MODIFIED:20231203T182800Z
UID:1923-1701993600-1707091199@ostalbkids.de
SUMMARY:Eispark Aalen
DESCRIPTION:Eislaufbahn der Stadtwerke Aalen neben dem Rathaus.\nErwachsene 5\,50 €\nKinder 2\,50 – 4\,00 €\nLeihschlittschuhe 3€
URL:https://ostalbkids.de/event/eispark-aalen/
LOCATION:Rathaus Aalen\, Marktplatz 1\, Aalen\, 73430\, Deutschland
END:VEVENT
BEGIN:VEVENT
DTSTART;TZID=UTC:20240202T143000
DTEND;TZID=UTC:20240202T170000
DTSTAMP:20260421T230944
CREATED:20240128T224808Z
LAST-MODIFIED:20240129T221513Z
UID:2054-1706884200-1706893200@ostalbkids.de
SUMMARY:Kinderfasching Haus der Jugend\, Aalen
DESCRIPTION:Kinderfasching Haus der Jugend\, Aalen\nmit toklen Spielen\, Kindercocktails\, Kinderdisko…\nfür Kinder 7 bis 11 Jahre
URL:https://ostalbkids.de/event/kinderfasching-haus-der-jugend-aalen/
END:VEVENT
BEGIN:VEVENT
DTSTART;TZID=UTC:20240203T140000
DTEND;TZID=UTC:20240203T163000
DTSTAMP:20260421T230944
CREATED:20240106T112702Z
LAST-MODIFIED:20240106T112804Z
UID:2018-1706968800-1706977800@ostalbkids.de
SUMMARY:Schw. Albverein\,  Familiengruppe: Waldklassenzimmer\, Aalen
DESCRIPTION:Familiengruppe: Waldklassenzimmer „Eulennest“\, Revier Röthardt \nmit Grillen am Lagerfeuer\, mehr Details folgen! \nTreffpunkt 14.00 Uhr Parkplatz Röthardt \nEs lädt ein Fam. Schaal
URL:https://ostalbkids.de/event/schw-albverein-familiengruppe-waldklassenzimmer-aalen/
END:VEVENT
BEGIN:VEVENT
DTSTART;TZID=UTC:20240203T140000
DTEND;TZID=UTC:20240203T170000
DTSTAMP:20260421T230944
CREATED:20240123T201514Z
LAST-MODIFIED:20240123T201514Z
UID:2041-1706968800-1706979600@ostalbkids.de
SUMMARY:Kinderfasching TSG\, Aalen
DESCRIPTION:Kinderfasching des Sportvereins TSG in Aalen.
URL:https://ostalbkids.de/event/kinderfasching-tsg-aalen/
END:VEVENT
BEGIN:VEVENT
DTSTART;TZID=UTC:20240203T170000
DTEND;TZID=UTC:20240203T183000
DTSTAMP:20260421T230944
CREATED:20231227T154711Z
LAST-MODIFIED:20231227T154711Z
UID:1963-1706979600-1706985000@ostalbkids.de
SUMMARY:Wutschweiger\, Theater der Stadt Aalen
DESCRIPTION:für Menschen ab 9 Jahren \nEbenesers Welt schrumpft: Seit seine Eltern keine Arbeit mehr haben\, wird alles immer kleiner – die Möglichkeiten\, die Wohnung und schließlich auch Vater und Mutter selbst. Sammy kennt sich damit schon aus\, mit ihr kann Ebeneser die „Weil wir es nicht bezahlen können“-Erfahrungen teilen. Dazu TicTacBonbons\, Geschichten und Fantasien\, Wut und Mut. Und als sie das „Weil wir es nicht bezahlen können“ sogar den ersehnten Schulausflug kostet\, beschließen die beiden\, sich nicht kleinkriegen zu lassen\, sondern lauthals zu schweigen. \nDas vielfach ausgezeichnete Kinderstück setzt mit feinem Humor und starken Bildern einer großartigen Freundschaft auf (leisen) Protest gegen das Verschwinden und Verschweigen.
URL:https://ostalbkids.de/event/wutschweiger-theater-der-stadt-aalen/
LOCATION:Altes Rathaus\, Aalen\, Marktplatz 4\, Aalen\, 73430\, Deutschland
END:VEVENT
BEGIN:VEVENT
DTSTART;VALUE=DATE:20240204
DTEND;VALUE=DATE:20240205
DTSTAMP:20260421T230944
CREATED:20240128T110344Z
LAST-MODIFIED:20240128T110344Z
UID:2048-1707004800-1707091199@ostalbkids.de
SUMMARY:Faschingsumzüge Lauchheim oder Ellenberg
DESCRIPTION:Faschingsumzug Lauchheim  4. Feb. 2024 13:31 Uhr\nFaschingsumzug Ellenberg 4. Feb. 2024 11:00 Uhr
URL:https://ostalbkids.de/event/faschingsumzuege-lauchheim-oder-ellenberg/
END:VEVENT
BEGIN:VEVENT
DTSTART;TZID=UTC:20240204T150000
DTEND;TZID=UTC:20240204T170000
DTSTAMP:20260421T230944
CREATED:20231227T154951Z
LAST-MODIFIED:20231227T155208Z
UID:1967-1707058800-1707066000@ostalbkids.de
SUMMARY:Wutschweiger\, Theater der Stadt Aalen
DESCRIPTION:für Menschen ab 9 Jahren \nEbenesers Welt schrumpft: Seit seine Eltern keine Arbeit mehr haben\, wird alles immer kleiner – die Möglichkeiten\, die Wohnung und schließlich auch Vater und Mutter selbst. Sammy kennt sich damit schon aus\, mit ihr kann Ebeneser die „Weil wir es nicht bezahlen können“-Erfahrungen teilen. Dazu TicTacBonbons\, Geschichten und Fantasien\, Wut und Mut. Und als sie das „Weil wir es nicht bezahlen können“ sogar den ersehnten Schulausflug kostet\, beschließen die beiden\, sich nicht kleinkriegen zu lassen\, sondern lauthals zu schweigen. \nDas vielfach ausgezeichnete Kinderstück setzt mit feinem Humor und starken Bildern einer großartigen Freundschaft auf (leisen) Protest gegen das Verschwinden und Verschweigen.
URL:https://ostalbkids.de/event/wutschweiger-theater-der-stadt-aalen-2/
LOCATION:Altes Rathaus\, Aalen\, Marktplatz 4\, Aalen\, 73430\, Deutschland
END:VEVENT
BEGIN:VEVENT
DTSTART;TZID=UTC:20240209T153000
DTEND;TZID=UTC:20240209T170000
DTSTAMP:20260421T230944
CREATED:20240123T201837Z
LAST-MODIFIED:20240123T201837Z
UID:2043-1707492600-1707498000@ostalbkids.de
SUMMARY:Kinderwelt-Faschingsdisco ASA\, Aalen
DESCRIPTION:Liebe Kinder der Kinderwelt\, \nwir laden euch ganz herzlich zu unserer Kinderwelt-Faschingsdisco ein. \nWann: Freitag\, 9.2. von 15.30-17.00 Uhr \nWo: Im Sportzentrum Spiesel (Spieselstr. 23) \nWer: Alle Kinderwelt-Kinder und ihre Familien sind herzlich eingeladen \nOhne Anmeldung – kommt einfach vorbei! \nBuffett:\nWir möchten den Kindern zwischendurch gerne wieder ein kleines Buffet mit Handkuchen/Muffins und Obst anbieten.\nBitte schreiben sie mir eine kurze Mail\, wenn sie etwas zum Buffet beisteuern können. Vielen Dank!\nFür Getränke ist gesorgt! \nWir freuen uns auf Euch! \nEuer Kinderwelt-Team
URL:https://ostalbkids.de/event/kinderwelt-faschingsdisco-asa-aalen/
END:VEVENT
BEGIN:VEVENT
DTSTART;VALUE=DATE:20240210
DTEND;VALUE=DATE:20240213
DTSTAMP:20260421T230944
CREATED:20240128T111950Z
LAST-MODIFIED:20240212T141908Z
UID:2050-1707523200-1707782399@ostalbkids.de
SUMMARY:Faschinungsumzüge 12. Feb. -13. Feb. 2024
DESCRIPTION:Faschingsumzug Pfahlheim Ortsmitte 12. Feb. 2024 13:30 Uhr\nRosenmontagsumzug mit anschließender Narrenparty 12. Feb. 2024 14:03 Uhr  Schloßberg-Flochberg\nFaschingsumzug Ellwangen Innenstadt 13. Feb. 2024 14:00 Uhr\nFaschingsumzug mit Kehraus\, Neresheim Stadtmitte 13. Feb. 2024 14:00 Uhr\nFaschingsumzug Schw. Gmünd 13. Feb. 2024 13:30
URL:https://ostalbkids.de/event/faschinungsumzuege-10-feb-12-feb-2024/
END:VEVENT
BEGIN:VEVENT
DTSTART;TZID=UTC:20240212T140000
DTEND;TZID=UTC:20240212T140000
DTSTAMP:20260421T230944
CREATED:20240211T101204Z
LAST-MODIFIED:20240211T102228Z
UID:2065-1707746400-1707746400@ostalbkids.de
SUMMARY:Kinderfasching - Oberkochen
DESCRIPTION:Kinderfasching in der Schwörzhalle in Oberkochen Beginn 14:00 Uhr
URL:https://ostalbkids.de/event/kinderfasching-oberkochen/
END:VEVENT
BEGIN:VEVENT
DTSTART;TZID=UTC:20240213T143000
DTEND;TZID=UTC:20240213T170000
DTSTAMP:20260421T230944
CREATED:20240211T101350Z
LAST-MODIFIED:20240211T101350Z
UID:2068-1707834600-1707843600@ostalbkids.de
SUMMARY:Kinderfasching - Essingen
DESCRIPTION:Kinderfasching mit anschließendem Kehraus in der Remshalle in Essingen\, Beginn: 14:30 Uhr
URL:https://ostalbkids.de/event/kinderfasching-essingen/
END:VEVENT
BEGIN:VEVENT
DTSTART;TZID=UTC:20240215T140000
DTEND;TZID=UTC:20240215T163000
DTSTAMP:20260421T230944
CREATED:20240213T173016Z
LAST-MODIFIED:20240213T174225Z
UID:2076-1708005600-1708014600@ostalbkids.de
SUMMARY:Familiennachmittag im Limesmuseum\, Aalen
DESCRIPTION:Plastische Malerei im römischen Stil \nAm 15. Februar findet wieder ein Familiennachmittag im Limesmuseum statt. \nDem trüben Winterwetter treten wir mit bunten Farben und viel Spaß entgegen. \nFrische Farben verbreiten Frühlingsstimmung\, deshalb werden wir uns dieses Mal im Reich der bildenden Kunst bewegen. Mit Schablonen von römischen Motiven bekommt jeder die Chance\, ein kleines Meisterwerk zu schaffen und dieses zudem mit tollen Stuckornamenten und echten Marmormosaiksteinen plastisch zu verzieren. Die Führung nimmt an diesem Nachmittag besonders die Museumsobjekte in den Blick\, die den Kunstsinn der Antike ansprechen. \nMuseumskino und römische Kleiderecke können wie immer ebenfalls gern genutzt werden. \nKosten: 4\,–€ für Material plus Museumseintritt (6\,– Erwachsene\, 4\,–€ reduziert\, 13\,50\,–€ Familienkarte) \nEine telefonische Anmeldung unter 07361-5282870 oder per Mail unter limesmuseum@aalen.de ist wichtig. \nTeilnehmerkreis: Eltern mit Kindern ab 8 Jahren
URL:https://ostalbkids.de/event/familiennachmittag-im-limesmuseum-aalen/
LOCATION:Limesmuseum Aalen\, St.-Johann-Straße 5\, Aalen\, 73430\, Deutschland
END:VEVENT
BEGIN:VEVENT
DTSTART;VALUE=DATE:20240220
DTEND;VALUE=DATE:20240224
DTSTAMP:20260421T230944
CREATED:20240215T153925Z
LAST-MODIFIED:20240215T154420Z
UID:2091-1708387200-1708732799@ostalbkids.de
SUMMARY:Vorstellung Realschulen Aalen
DESCRIPTION:Karl-Kessler-Schule\, Hofwiesenstr. 47-53\, 73433 Aalen-Wasseralfingen\, 07361/9771100\, poststelle@kks-aa.schule.bwl.de\, www.kks-aa.de\, Schulleiter: Thomas Brunnhuber\nInfo-Veranstaltung: Freitag\, 23.02.2024 \, 16.30-19.30 Uhr \nRealschule auf dem Galgenberg\, Galgenbergstr. 42\, 73431 Aalen\, 07361/93703\, verwaltung@rsg-aalen.de\, www.rsgalgenberg.de\, Schulleiterin: Heike Rieger-Schlenkermann\nInfo-Veranstaltung: Dienstag\, 20.02.2024 \, 16.00 Uhr \nUhland-Realschule\, Turnstr. 21\, 73430 Aalen\, 07361/956140\, uhland-realschule-aalen@t-online.de\, www.uhland-realschule.de\, Schulleiter: Gerd Steinke\nInfo-Veranstaltung: Mittwoch\, 21.02.2024\, 15.00 Uhr
URL:https://ostalbkids.de/event/vorstellung-realschulen-aalen/
END:VEVENT
BEGIN:VEVENT
DTSTART;TZID=UTC:20240223T163000
DTEND;TZID=UTC:20240223T163000
DTSTAMP:20260421T230944
CREATED:20240215T154515Z
LAST-MODIFIED:20240215T155515Z
UID:2098-1708705800-1708705800@ostalbkids.de
SUMMARY:Vorstellung Werkrealschule\, Aalen
DESCRIPTION:Karl-Kessler-Schule\nHofwiesenstr. 47-53\n73433 Aalen-Wasseralfingen\n07361/9771100\npoststelle@kks-aa.schule.bwl.de\nwww.kks-aa.de\nSchulleiter: Thomas Brunnhuber\nInfo-Veranstaltung:\nFreitag\, 23.02.2024 \, 16.30-19.30 Uhr
URL:https://ostalbkids.de/event/vorstellung-werkrealschule-aalen/
END:VEVENT
BEGIN:VEVENT
DTSTART;TZID=UTC:20240224T140000
DTEND;TZID=UTC:20240224T140000
DTSTAMP:20260421T230944
CREATED:20240106T113022Z
LAST-MODIFIED:20240106T113143Z
UID:2021-1708783200-1708783200@ostalbkids.de
SUMMARY:Schw. Albverein Familiengruppe\, Rettungshundestaffel
DESCRIPTION:Begleitung der Rettungshundestaffel beim Training \nMehr Details folgen! \nTreffpunkt 14.00 Uhr Wanderparkplatz Brastelburg \nFam. Reiser
URL:https://ostalbkids.de/event/schw-albverein-familiengruppe-rettungshundestaffel/
END:VEVENT
BEGIN:VEVENT
DTSTART;TZID=UTC:20240226T140000
DTEND;TZID=UTC:20240226T163000
DTSTAMP:20260421T230944
CREATED:20240215T154215Z
LAST-MODIFIED:20240215T154231Z
UID:2094-1708956000-1708965000@ostalbkids.de
SUMMARY:Vorstellung Schillerschule\, Aalen
DESCRIPTION:Schillerschule\nGalgenbergstr. 40\n73431 Aalen\n07361/9370-0\ninfo@gemeinschaftsschule-aalen.de\nwww.gemeinschaftsschule-aalen.de\nSchulleiter: Karl Frank\nInfo-Veranstaltung:\nMontag\,26.02.2024 \, 14.00-16.00 U
URL:https://ostalbkids.de/event/2094/
END:VEVENT
BEGIN:VEVENT
DTSTART;TZID=UTC:20240226T163000
DTEND;TZID=UTC:20240226T173000
DTSTAMP:20260421T230944
CREATED:20240215T153451Z
LAST-MODIFIED:20240215T153607Z
UID:2088-1708965000-1708968600@ostalbkids.de
SUMMARY:Vorstellung Kopernikus-Gymnasium\, Wasseralfingen
DESCRIPTION:Kopernikus-Gymnasium\nAm Schäle 19\n73433 Aalen-Wasseralfingen\n07361/9770-6\nkgw@kgw.schule.bwl.de\nwww.kgw-online.de\nSchulleiter: Michael Schellhammer\nTag der offenen Tür:\nMontag\, 26.02.2024 \, 16.30 Uhr
URL:https://ostalbkids.de/event/kopernikus-gymnasium-wasseralfingen/
END:VEVENT
BEGIN:VEVENT
DTSTART;TZID=UTC:20240227T170000
DTEND;TZID=UTC:20240227T183000
DTSTAMP:20260421T230944
CREATED:20231116T182759Z
LAST-MODIFIED:20240215T153226Z
UID:1900-1709053200-1709058600@ostalbkids.de
SUMMARY:Vorstellung Schubart Gymnasium\, Aalen
DESCRIPTION:Schubart-\nGymnasium\nRombacher Str. 30\n73430 Aalen\n07361/9561-0\ninfo@sg-aalen.de\nwww.sg-aalen.de\nSchulleiterin: Christiane Dittmann\nInfo-Veranstaltung:\nDienstag\, 27.02.2024 \, 17.00 Uhr\nDonnerstag\,29.02.2023 \, 17.00 Uhr\nDa wir persönlich für Sie Zeit haben möchten\, bitten wir Sie\, in zwei Gruppen zu kommen. Sollte Ihnen der Termin nicht passen\, können Sie natürlich den anderen Termin wählen.\nGruppe 1 (Di.\, 27.02.): Dewangen\, Essingen\, Greutschule\, Langertschule\, Rombachschule\, Waldhausen\, Welland\nGruppe 2 (Do.\, 29.02.): Ebnat\, Fachsenfeld\, Grauleshof\, Hofen\, Hüttlingen\, Mögglingen\,Schillerschule\, Unterkochen
URL:https://ostalbkids.de/event/vorstellung-schubart-gymnasium-aalen/
END:VEVENT
BEGIN:VEVENT
DTSTART;TZID=UTC:20240229T170000
DTEND;TZID=UTC:20240229T183000
DTSTAMP:20260421T230944
CREATED:20231116T181711Z
LAST-MODIFIED:20240215T153316Z
UID:1895-1709226000-1709231400@ostalbkids.de
SUMMARY:Vorstellung Schubart Gymnasium\, Aalen
DESCRIPTION:Schubart-\nGymnasium\nRombacher Str. 30\n73430 Aalen\n07361/9561-0\ninfo@sg-aalen.de\nwww.sg-aalen.de\nSchulleiterin: Christiane Dittmann\nInfo-Veranstaltung:\nDienstag\, 27.02.2024 \, 17.00 Uhr\nDonnerstag\,29.02.2023 \, 17.00 Uhr\nDa wir persönlich für Sie Zeit haben möchten\, bitten wir Sie\, in zwei Gruppen zu kommen. Sollte Ihnen der Termin nicht passen\, können Sie natürlich den anderen Termin wählen.\nGruppe 1 (Di.\, 27.02.): Dewangen\, Essingen\, Greutschule\, Langertschule\, Rombachschule\, Waldhausen\, Welland\nGruppe 2 (Do.\, 29.02.): Ebnat\, Fachsenfeld\, Grauleshof\, Hofen\, Hüttlingen\, Mögglingen\,Schillerschule\, Unterkochen
URL:https://ostalbkids.de/event/vorstellung-schubartgymnasium-aalen/
END:VEVENT
END:VCALENDAR