BEGIN:VCALENDAR
VERSION:2.0
PRODID:-//Ausflüge &amp; Veranstaltungen für Kinder im Ostalbkreis - ECPv6.15.20//NONSGML v1.0//EN
CALSCALE:GREGORIAN
METHOD:PUBLISH
X-WR-CALNAME:Ausflüge &amp; Veranstaltungen für Kinder im Ostalbkreis
X-ORIGINAL-URL:https://ostalbkids.de
X-WR-CALDESC:Veranstaltungen für Ausflüge &amp; Veranstaltungen für Kinder im Ostalbkreis
REFRESH-INTERVAL;VALUE=DURATION:PT1H
X-Robots-Tag:noindex
X-PUBLISHED-TTL:PT1H
BEGIN:VTIMEZONE
TZID:UTC
BEGIN:STANDARD
TZOFFSETFROM:+0000
TZOFFSETTO:+0000
TZNAME:UTC
DTSTART:20220101T000000
END:STANDARD
END:VTIMEZONE
BEGIN:VEVENT
DTSTART;VALUE=DATE:20231203
DTEND;VALUE=DATE:20240103
DTSTAMP:20260422T003745
CREATED:20231207T124307Z
LAST-MODIFIED:20231207T124307Z
UID:1944-1701561600-1704239999@ostalbkids.de
SUMMARY:Krippenweg in Herdtlinsweiler
DESCRIPTION:In Herdtlinsweiler stehen die Krippen immer vom 1. Advent bis Lichtmess. Zwar nur ein kurzer Weg aber schöne Krippen.
URL:https://ostalbkids.de/event/krippenweg-in-herdtlinsweiler/
LOCATION:Herdtlinsweiler\, Herdtlinsweiler\, Germany
END:VEVENT
BEGIN:VEVENT
DTSTART;VALUE=DATE:20231208
DTEND;VALUE=DATE:20240205
DTSTAMP:20260422T003745
CREATED:20231203T182351Z
LAST-MODIFIED:20231203T182800Z
UID:1923-1701993600-1707091199@ostalbkids.de
SUMMARY:Eispark Aalen
DESCRIPTION:Eislaufbahn der Stadtwerke Aalen neben dem Rathaus.\nErwachsene 5\,50 €\nKinder 2\,50 – 4\,00 €\nLeihschlittschuhe 3€
URL:https://ostalbkids.de/event/eispark-aalen/
LOCATION:Rathaus Aalen\, Marktplatz 1\, Aalen\, 73430\, Deutschland
END:VEVENT
BEGIN:VEVENT
DTSTART;VALUE=DATE:20231221
DTEND;VALUE=DATE:20240108
DTSTAMP:20260422T003745
CREATED:20231228T093647Z
LAST-MODIFIED:20231228T093647Z
UID:1978-1703116800-1704671999@ostalbkids.de
SUMMARY:Weihnachtszirkus\, Ulm
DESCRIPTION:Weihnachtszirkus in Ulm in der Friedrichsau\nBereits zum 14. Mal heißt es „Manege frei“ für die beliebteste Weihnachtscircus-Show der Region! \nWie der Weihnachtsmarkt\, die zauberhafte Altstadt\, das malerische Fischerviertel und das Ulmer Münster gehört unsere beliebte Circusshow einfach schon fest zur Weihnachtstradition! \nZum 14-jährigen Bestehen präsentieren wir Ihnen die „Creme de la Creme“ aus der internationalen Circuswelt\, mit Artisten aus ganz Europa\, Südamerika und aus der Ukraine! Das Beste ist uns gerade gut genug für unser treues\, fachkundiges und begeisterungsfähiges Publikum voller Herzlichkeit. \nFreuen Sie sich auf eine völlig neue\, speziell für die Winterspielzeit in Ulm zusammengestellte Show und erleben Sie viele einzigartige und faszinierende Darbietungen von absoluter internationaler Spitzenklasse! \nNun ist es endlich wieder soweit: Die besten und erfolgreichsten Artisten der Welt reisen zur Weihnachtszeit nach Ulm\, darunter Preisträger des legendären „Internationalen Circus Festivals von Monte Carlo“\, wie die weltbekannte Artistentrupe „The Gerlings“\, edle Tiere\, wahre Meister der Clownerie aus Spanien und jede Menge Überraschungen im schönsten Weihnachts-Ambiente. Die Zeltanlagen des Ulmer Weihnachtscircus werden wieder ein „Winter Wonderland“ voller Glanz\, Glamour\, Spaß mit einer Show\, die man einfach nicht verpassen sollte.\ntäglich 15:30 und 19:30\nhttps://www.ulmer-weihnachtscircus.de/
URL:https://ostalbkids.de/event/weihnachtszirkus-ulm/
END:VEVENT
BEGIN:VEVENT
DTSTART;VALUE=DATE:20240102
DTEND;VALUE=DATE:20240107
DTSTAMP:20260422T003745
CREATED:20231230T191508Z
LAST-MODIFIED:20231230T192101Z
UID:1983-1704153600-1704585599@ostalbkids.de
SUMMARY:Farben des Lichts\, Explorhino\, Aalen
DESCRIPTION:Kids ab 7 Jahren können in den Ferien im Entdeckerkurs mit den „Farben des Lichts“ experimentieren. Gibt es bunte Schatten? Und wie zerlegt man Licht in seine Bestandteile? Diesen und weiteren Fragen gehen die jungen Kursteilnehmerinnen und -teilnehmer auf den Grund und bauen Ihr eigenes Regenbogen-Spektral-Monokel. \nDer Kurs wird in den Weihnachtsferien durchgehend zu festen Uhrzeiten angeboten. Diese sind um 11:30 Uhr\, 14:00 Uhr und 15:30 Uhr. Eine Voranmeldung ist nicht erforderlich. Interessierte melden sich am Besuchstag an der Museumskasse an. Die Teilnahme kostet 6€ pro Kind.
URL:https://ostalbkids.de/event/die-farbe-des-lichtes-explorhino-aalen/
END:VEVENT
BEGIN:VEVENT
DTSTART;VALUE=DATE:20240104
DTEND;VALUE=DATE:20240108
DTSTAMP:20260422T003745
CREATED:20240104T211155Z
LAST-MODIFIED:20240104T211639Z
UID:2010-1704326400-1704671999@ostalbkids.de
SUMMARY:geschmückter Christbaum im Wald
DESCRIPTION:Mitten im Wald ist ein geschmückter Weihnachtsbaum. Ein schöner Ausflug mit Keksen/Plätzchen und Kinderpunsch.\nStandort Fuchsteichhütte (Nähe Albäumle Aalen; siehe Googlemaps als Veranstaltungslink). \nParkplatz: Wanderparkplatz Aalbäumle; Aalen\nWanderstrecke eine Richtung ca. 2km\, gute 30 Min.
URL:https://ostalbkids.de/event/geschmueckter-christbaum-im-wald/
END:VEVENT
BEGIN:VEVENT
DTSTART;VALUE=DATE:20240105
DTEND;VALUE=DATE:20240115
DTSTAMP:20260422T003745
CREATED:20240105T075320Z
LAST-MODIFIED:20241226T232357Z
UID:2014-1704412800-1705276799@ostalbkids.de
SUMMARY:Degenfelder Krippenweg
DESCRIPTION:In Degenfeld standen 2023/ 2024 26 sehr unterschiedliche Krippen. Was 24/25 ist\, weiss ich leider nicht. \nAdresse: Pfarrer-Haug-Straße 21\, 73529 Schwäbisch Gmünd
URL:https://ostalbkids.de/event/degenfelder-krippenweg/
END:VEVENT
BEGIN:VEVENT
DTSTART;TZID=UTC:20240106T140000
DTEND;TZID=UTC:20240106T170000
DTSTAMP:20260422T003745
CREATED:20240106T113755Z
LAST-MODIFIED:20240106T114051Z
UID:2028-1704549600-1704560400@ostalbkids.de
SUMMARY:Schw. Albverein  Familiengruppe: Wanderung mit Lagerfeuer und Stockbrot
DESCRIPTION:Familiengruppe: Wanderung mit Lagerfeuer und Stockbrot \nTreffpunkt 14.00 Uhr Wanderparkplatz Felsenmeer \nDetails folgen! \nFam. Hesemann
URL:https://ostalbkids.de/event/schw-albverein-familiengruppe-wanderung-mit-lagerfeuer-und-stockbrot/
END:VEVENT
BEGIN:VEVENT
DTSTART;TZID=UTC:20240126T150000
DTEND;TZID=UTC:20240126T163000
DTSTAMP:20260422T003745
CREATED:20231227T161927Z
LAST-MODIFIED:20231227T161927Z
UID:1975-1706281200-1706286600@ostalbkids.de
SUMMARY:Kinderkino - Das Magische Haus\, Aalen
DESCRIPTION:Der kleine Kater Thunder kämpft mit anderen Tieren um sein zuhause. \nAb 5 Jahre.\nKostenlos.
URL:https://ostalbkids.de/event/kinderkino-das-magische-haus-aalen/
LOCATION:Torhaus (Stadtbücherei) Aalen\, Gmünder Torplatz\, Aalen\, 73430\, Deutschland
END:VEVENT
BEGIN:VEVENT
DTSTART;TZID=UTC:20240127T150000
DTEND;TZID=UTC:20240127T150000
DTSTAMP:20260422T003745
CREATED:20240123T201026Z
LAST-MODIFIED:20240123T202522Z
UID:2036-1706367600-1706367600@ostalbkids.de
SUMMARY:Kinder-Fasching SSV\, Aalen
DESCRIPTION:Kinderfasching statt mit buntem Rahmenprogramm
URL:https://ostalbkids.de/event/ssv-kinder-fasching-2024/
LOCATION:SSV Vereinsheim\, Stadionweg 14\, Aalen\, 73430\, Deutschland
END:VEVENT
END:VCALENDAR