BEGIN:VCALENDAR
VERSION:2.0
PRODID:-//Ausflüge &amp; Veranstaltungen für Kinder im Ostalbkreis - ECPv6.15.20//NONSGML v1.0//EN
CALSCALE:GREGORIAN
METHOD:PUBLISH
X-WR-CALNAME:Ausflüge &amp; Veranstaltungen für Kinder im Ostalbkreis
X-ORIGINAL-URL:https://ostalbkids.de
X-WR-CALDESC:Veranstaltungen für Ausflüge &amp; Veranstaltungen für Kinder im Ostalbkreis
REFRESH-INTERVAL;VALUE=DURATION:PT1H
X-Robots-Tag:noindex
X-PUBLISHED-TTL:PT1H
BEGIN:VTIMEZONE
TZID:UTC
BEGIN:STANDARD
TZOFFSETFROM:+0000
TZOFFSETTO:+0000
TZNAME:UTC
DTSTART:20220101T000000
END:STANDARD
END:VTIMEZONE
BEGIN:VEVENT
DTSTART;TZID=UTC:20231120T110000
DTEND;TZID=UTC:20231223T200000
DTSTAMP:20260422T020807
CREATED:20231102T171250Z
LAST-MODIFIED:20231102T171250Z
UID:1830-1700478000-1703361600@ostalbkids.de
SUMMARY:Aalener Weihnachtsland
DESCRIPTION:Aalener Weihnachtsland – Ein vielseitige Angebot mit Erzgebirgskunst\, Weihnachtsschmuck\, Kerzen\, Duftölen und vielem mehr schafft mit Glühweinduft und einer lebendigen Krippe vorweihnachtliche Atmosphäre auf dem Weihnachtsmarkt in Aalen. Adventliche Musik lädt auf dem festlich illuminierten Spritzenhausplatz zur Besinnung ein. Täglich: 11:00 bis 20:00 Uhr. www.aalen.de
URL:https://ostalbkids.de/event/aalener-weihnachtsland/
LOCATION:Spritzenhausplatz Aalen\, Spritzenhausplatz\, Aalen\, Baden-Württemberg\, 73430\, Deutschland
END:VEVENT
BEGIN:VEVENT
DTSTART;VALUE=DATE:20231123
DTEND;VALUE=DATE:20231222
DTSTAMP:20260422T020807
CREATED:20231102T172426Z
LAST-MODIFIED:20231102T172509Z
UID:1846-1700697600-1703203199@ostalbkids.de
SUMMARY:Weihnachtsmarkt Schwäbisch Gmünd
DESCRIPTION:Gmünder Weihnachtsmarkt mit stimmungsvoller Atmosphäre.
URL:https://ostalbkids.de/event/weihnachtsmarkt-schwaebisch-gmuend/
LOCATION:Stadt Schwäbisch Gmünd\, Marktplatz 1\, Schwäbisch Gmünd\, 73525\, Deutschland
END:VEVENT
BEGIN:VEVENT
DTSTART;TZID=UTC:20231201T143000
DTEND;TZID=UTC:20231201T160000
DTSTAMP:20260422T020807
CREATED:20231102T171524Z
LAST-MODIFIED:20231102T171524Z
UID:1833-1701441000-1701446400@ostalbkids.de
SUMMARY:Weihnachtsbasteln für Kinder ab 5 Jahren
DESCRIPTION:Lies mit mir! Weihnachstbasteln für Kinder ab 5 Jahren.\nOrt: Bücherei Unterkochen
URL:https://ostalbkids.de/event/weihnachtsbasteln-fuer-kinder-ab-5-jahren/
END:VEVENT
BEGIN:VEVENT
DTSTART;VALUE=DATE:20231203
DTEND;VALUE=DATE:20240103
DTSTAMP:20260422T020807
CREATED:20231207T124307Z
LAST-MODIFIED:20231207T124307Z
UID:1944-1701561600-1704239999@ostalbkids.de
SUMMARY:Krippenweg in Herdtlinsweiler
DESCRIPTION:In Herdtlinsweiler stehen die Krippen immer vom 1. Advent bis Lichtmess. Zwar nur ein kurzer Weg aber schöne Krippen.
URL:https://ostalbkids.de/event/krippenweg-in-herdtlinsweiler/
LOCATION:Herdtlinsweiler\, Herdtlinsweiler\, Germany
END:VEVENT
BEGIN:VEVENT
DTSTART;TZID=UTC:20231206T170000
DTEND;TZID=UTC:20231206T183000
DTSTAMP:20260422T020807
CREATED:20230908T161841Z
LAST-MODIFIED:20230908T161841Z
UID:1672-1701882000-1701887400@ostalbkids.de
SUMMARY:Wir suchen den Nikolaus Eine weihnachtliche Schlossführung für Kinder Kapfenburg
DESCRIPTION:Mittwoch\, den 06. Dezember 2023\, 17.00 Uhr\, Treffpunkt unterer Torbogen \nNikolaustag auf Schloss Kapfenburg. Alle sind da\, nur einer fehlt – der Nikolaus! Gemeinsam mit Schlossführerin Sonja Heinen und ihrem Assistenten d’Artagnan begeben sich die Gäste auf die Suche nach ihm.  \nPreise\n8\,00 Euro Kinder (inkl. kleinem Nikolausgeschenk)\n5\,00 Euro Erwachsene \nBitte tragen Sie die Vornamen der Kinder bei der Buchung ins Feld „Bemerkungen“ ein\, damit der Nikolaus weiß\, für wen die Geschenke sind.
URL:https://ostalbkids.de/event/wir-suchen-den-nikolaus-eine-weihnachtliche-schlossfuehrung-fuer-kinder-kapfenburg/
LOCATION:Kapfenburg\, Schloss Kapfenburg\, Lauchheim\, 73466
ORGANIZER;CN="Kulturzentrum Schloss Kapfenburg":MAILTO:info@schloss-kapfenburg.de
END:VEVENT
BEGIN:VEVENT
DTSTART;VALUE=DATE:20231208
DTEND;VALUE=DATE:20240205
DTSTAMP:20260422T020807
CREATED:20231203T182351Z
LAST-MODIFIED:20231203T182800Z
UID:1923-1701993600-1707091199@ostalbkids.de
SUMMARY:Eispark Aalen
DESCRIPTION:Eislaufbahn der Stadtwerke Aalen neben dem Rathaus.\nErwachsene 5\,50 €\nKinder 2\,50 – 4\,00 €\nLeihschlittschuhe 3€
URL:https://ostalbkids.de/event/eispark-aalen/
LOCATION:Rathaus Aalen\, Marktplatz 1\, Aalen\, 73430\, Deutschland
END:VEVENT
BEGIN:VEVENT
DTSTART;TZID=UTC:20231208T143000
DTEND;TZID=UTC:20231208T170000
DTSTAMP:20260422T020807
CREATED:20231102T171731Z
LAST-MODIFIED:20231102T171731Z
UID:1836-1702045800-1702054800@ostalbkids.de
SUMMARY:Lies mit mir! Weihnachstbasteln für Kinder ab 5 Jahren
DESCRIPTION:Lies mit mir! Weihnachstbasteln für Kinder ab 5 Jahren.\nOrt: Bücherei Unterkochen
URL:https://ostalbkids.de/event/lies-mit-mir-weihnachstbasteln-fuer-kinder-ab-5-jahren/
END:VEVENT
BEGIN:VEVENT
DTSTART;TZID=UTC:20231209T090000
DTEND;TZID=UTC:20231209T160000
DTSTAMP:20260422T020807
CREATED:20231028T073121Z
LAST-MODIFIED:20231028T073336Z
UID:1793-1702112400-1702137600@ostalbkids.de
SUMMARY:Großer Weihnachtsbaumverkauf der ASA\, Aalener Sportallianz
DESCRIPTION:Großer Weihnachtsbaumverkauf mit kostenlosem Bringservice \nam Samstag\, den 09.Dezember 2023 von 09:00 – 16:00 Uhr auf dem Sparkassenplatz Aalen \nDie Tischtennisabteilung der Aalener Sportallianz e.V veranstaltet wiederholt einen Weihnachtsbaumverkauf. Dort werden Weihnachtsbäume in verschiedenen Größen\, aus heimischen Wäldern\, zu attraktiven Preisen angeboten. \nBeim Kauf eine Baumes liefern wir Ihnen diesen gratis im Stadtgebiet Aalen und Teilorte nach Hause. Sie können uns gerne auf dem Sparkassenplatz besuchen kommen und Ihren Baum aussuchen oder Sie bestellen Ihren Baum einfach über Tel: 0173–8013472\, per Whatsapp unter: 0178–80509787 oder per Mail: tischtennis@sportallianz.com. \nEin Teil des Erlöses fließt in den Sozialfonds der Aalener Sportallianz e.V.\, der zur Unterstützung und Förderung benachteiligter Kinder und Jugendlicher aufgelegt wurde.
URL:https://ostalbkids.de/event/grosser-weihnachtsbaumverkauf-der-asa-aalener-sportallianz/
LOCATION:Kreissparkassenplatz\, Aalen\, Reichsstädter Str. 15\, Aalen\, 73430\, Deutschland
END:VEVENT
BEGIN:VEVENT
DTSTART;TZID=UTC:20231209T103000
DTEND;TZID=UTC:20231209T113000
DTSTAMP:20260422T020808
CREATED:20231112T000435Z
LAST-MODIFIED:20231112T000435Z
UID:1882-1702117800-1702121400@ostalbkids.de
SUMMARY:Kinderuni\, Aalen
DESCRIPTION:Sa\, 09.12.\n10:30 – 11:30 Uhr\nKinder-Uni: „Magische Flugabenteuer mit Harry Potter und der Informatik entdecken!“\nmehr \nMagische Flugabenteuer mit Harry Potter und der Informatik entdecken! \nKomm mit auf eine fantastische Reise und erlebe einen aufregenden Besenflug über die Hochschule Aalen und die schöne Ostalb.\nEntdecke in der Kinder-Uni\, wie die Informatik magische Bilder zaubern kann und lerne\, wie auch du kreative Werke erschaffen kannst.\nNach erfolgreicher Prüfung – inklusive eines Besenflugs von der Aula aus – kannst du den Besenflugschein erwerben.\nAlso auf geht’s\, werde Teil dieses zauberhaften Abenteuers! \nTermin: 09. Dezember 2023\, 10.30 – 11.30 Uhr \nReferent: Prof. Dr. Carsten Lecon \nOrt: Beethovenstraße 1\, 73430 Aalen (Audimax Hochschule Aalen) \ngeeignet für Klasse 2-7
URL:https://ostalbkids.de/event/kinderuni-aalen/
LOCATION:Hochschule Audimax Aalen\, Beethovenstraße 1\, Aalen\, 73430\, Deutschland
END:VEVENT
BEGIN:VEVENT
DTSTART;TZID=UTC:20231209T150000
DTEND;TZID=UTC:20231210T180000
DTSTAMP:20260422T020808
CREATED:20231102T165218Z
LAST-MODIFIED:20231102T165913Z
UID:1818-1702134000-1702231200@ostalbkids.de
SUMMARY:Burgweihnacht Katzenstein
DESCRIPTION:Burgweihnacht zu Katzenstein in alten Gemäuern\, bei festlich geschmückter Atmosphäre und großer Unterhaltung.\n09.+10. Dezember 2023\n16.+17. Dezember 2023\nAlle Jahre wieder\, werden die Besucher auf der Staufer Burg Katzenstein in vorweihnachtliche Stimmung entführt. Die liebevoll festlich geschmückte Stauferburg\, die alten Gemäuer mit Ihren engen Winkeln\, das hautnahe Gefühl vergangener Bauzeugen\, das leuchten der Kerzen und Sterne\, der Duft von Glühwein\, sowie das breit gefächerte Sortiment der Händler sind gerade das Besondere und ein wahrer Augenschmaus auf der Stauferburg Katzenstein. Hier ist die Welt noch in Ordnung\, hier spürt man Wärme\, Einklang und eine ganz besondere familiäre Atmosphäre. Es werden Kinderträume wahr und verkürzen die Wartezeit auf das bevorstehende Christfest. Mit großer Unterhaltung\, Gauklerei\, Stelzenläufer\, Feuerschau und Taschenspieler ist es ein besonderer Weihnachtsmarkt\, der Unterhaltung und Abwechslung für die ganze Familie bieten. Durch das große Burgtor betritt man glänzend geschmückte Innenhof\, bereits hier sind die ersten Stände aufgebaut und bieten allerhand Leckereien. Im Küchenbau der Krippenbauer von er biete seinen Handgeschnitzten Grippen in einer großen Vielfalt an und doch ist jede ein Unikat aus seiner Meisterhand. Weiter im Weihnachtsland zwischen den vielen Tannenbäume und der großen Krippe\, ist ein vielseitiges Angebot an Weihnachtschmuck\, Stickerei und Handarbeit. Vom extravaganten Schmuck bist hin zum Zauberwerkzeug ist für alle Gäste etwas dabei. Der Staufersaal mit den bereits schon seit Jahren bekannten Händler wieder bestück. Sie zeigen wieder ausgefallen und Dekorative Geschenkideen für das Weihnachtsfest. Die ganze Stauferburg ist belebt und gefüllt mit einer Vielzahl an Händler und Unterhaltung. Tauchen Sie mit ein in den etwas andere Weihnachtzauber der Burg Katzenstein.\n16.+17. Dezember\nbeide Tage das „Duo Feuerzirkus“ mit „Stelzenlauf“ und „artisitschen Gaukelei“\nSamstag um 20:30 Uhr Feuerschau mit „Lumen Noctis“.\nDer geschichtlich interessierte Besucher kann den romantischen Weihnachtsmarkt auf Burg Katzenstein mit einem Streifzug durch die Vergangenheit\ndieser historischen und in weiten Teilen bestens erhaltenen Stauferburg verbinden.\nGastronomisch werden die Gäste von der Burgküche\, am Würstles und Glühweinstand im Burghof\, sowie der der Burggastronomie „Zum Marstall“ verwöhnt.\nÖffnungszeiten der Romantischen Burgweihnacht\nSa. 15.00 – 21.00 Uhr So. 11.00 – 18.00 Uhr\nEin kostenloser Busshuttle bringt Sie vom Parkplatz Härtsfeldsee zur Burg Katzenstein.\nEintrittspreise Weihnachtsmarkt und Burg:\nKinder bis 3 Jahre sind frei Kinder\nab 4 – 16 Jahre. und Menschen mit Handicap\, 4\,00 €\nStudenten\, Rentner 5\,00 €\nErwachsener 6\,00 €\nDer Eintritt dient zum Erhalt der Burg Katzenstein!\nAls Dankeschön\, bezahlen die Gäste einmal Eintritt und können an allen weiteren Tag den Weihnachtsmarkt kostenlos besuchen.\nTiere sind auf Burg Katzenstein zum Schutz des Denkmals nicht erlaubt.\nKontakt und Information: Burg Katzenstein Tel. 07326 – 919 656\,\ninfo@burgkaztenstein.de\nwww.burgkatzenstein.de
URL:https://ostalbkids.de/event/burgweihnacht-katzenstein/
LOCATION:Burg Katzenstein\, Oberer Weiher 1-13\, Katzenstein\, Bayern\, 89561\, Deutschland
ORGANIZER;CN="Burg Katzenstein":MAILTO:info@burgkatzenstein.de
END:VEVENT
BEGIN:VEVENT
DTSTART;TZID=UTC:20231210T163000
DTEND;TZID=UTC:20231210T170000
DTSTAMP:20260422T020808
CREATED:20230611T121438Z
LAST-MODIFIED:20230926T211838Z
UID:1381-1702225800-1702227600@ostalbkids.de
SUMMARY:Familiengruppe Schw. Albverein Orstgruppe Aalen: Waldweihnacht
DESCRIPTION:Treffpunkt: Parkplatz oberhalb Röthardt\, 16.30 Uhr \nFam Nar \nInfos unter familiengruppe-aalen@gmx.de \n\nUhrzeit: 16:30\n\n\nBitte stimmen Sie die Teilnahme mit dem Veranstalter ab.
URL:https://ostalbkids.de/event/familiengruppe-schw-albverein-orstgruppe-aalen-waldweihnacht/
END:VEVENT
BEGIN:VEVENT
DTSTART;TZID=UTC:20231215T143000
DTEND;TZID=UTC:20231215T170000
DTSTAMP:20260422T020808
CREATED:20231102T171838Z
LAST-MODIFIED:20231102T171838Z
UID:1839-1702650600-1702659600@ostalbkids.de
SUMMARY:Lies mit mir! Weihnachstbasteln für Kinder ab 5 Jahren
DESCRIPTION:Lies mit mir! Weihnachstbasteln für Kinder ab 5 Jahren.\nOrt: Bücherei Unterkochen
URL:https://ostalbkids.de/event/lies-mit-mir-weihnachstbasteln-fuer-kinder-ab-5-jahren-2/
END:VEVENT
BEGIN:VEVENT
DTSTART;TZID=UTC:20231215T150000
DTEND;TZID=UTC:20231215T160000
DTSTAMP:20260422T020808
CREATED:20231205T085838Z
LAST-MODIFIED:20231205T171405Z
UID:1933-1702652400-1702656000@ostalbkids.de
SUMMARY:Puppenbühne Mini-Max\, Urbach
DESCRIPTION:In Kinderaugen Glück zu sehn –\n    Zauberrabe Herr Schnabelix freut sich Euch alle wiederzusehn. \n    Der Flug des bekannten Zauberraben führt ihn wieder zu seinen begeisterungsfähigen Zauberassistenten\, den Kindern. \n    Juhu!!! Die neue Tour hat nun begonnen\,\n    Herr Schnabelix und Co. haben sich viel vorgenommen.\n    Neue Abenteuer stehen an\,\n    da müssen wieder alle Kinder ran. \n15.12.: Urbach\, Atriumhalle\, 15 Uhr\nhttps://www.puppenbuehne-mini-max.de/html/termine.html
URL:https://ostalbkids.de/event/puppentheater-urbach/
END:VEVENT
BEGIN:VEVENT
DTSTART;TZID=UTC:20231216T150000
DTEND;TZID=UTC:20231217T180000
DTSTAMP:20260422T020808
CREATED:20231102T165617Z
LAST-MODIFIED:20231102T165827Z
UID:1822-1702738800-1702836000@ostalbkids.de
SUMMARY:Burgweihnacht auf Burg Katzenstein
DESCRIPTION:Burgweihnacht zu Katzenstein in alten Gemäuern\, bei festlich geschmückter Atmosphäre und großer Unterhaltung.\n09.+10. Dezember 2023\n16.+17. Dezember 2023\nAlle Jahre wieder\, werden die Besucher auf der Staufer Burg Katzenstein in vorweihnachtliche Stimmung entführt. Die liebevoll festlich geschmückte Stauferburg\, die alten Gemäuer mit Ihren engen Winkeln\, das hautnahe Gefühl vergangener Bauzeugen\, das leuchten der Kerzen und Sterne\, der Duft von Glühwein\, sowie das breit gefächerte Sortiment der Händler sind gerade das Besondere und ein wahrer Augenschmaus auf der Stauferburg Katzenstein. Hier ist die Welt noch in Ordnung\, hier spürt man Wärme\, Einklang und eine ganz besondere familiäre Atmosphäre. Es werden Kinderträume wahr und verkürzen die Wartezeit auf das bevorstehende Christfest. Mit großer Unterhaltung\, Gauklerei\, Stelzenläufer\, Feuerschau und Taschenspieler ist es ein besonderer Weihnachtsmarkt\, der Unterhaltung und Abwechslung für die ganze Familie bieten. Durch das große Burgtor betritt man glänzend geschmückte Innenhof\, bereits hier sind die ersten Stände aufgebaut und bieten allerhand Leckereien. Im Küchenbau der Krippenbauer von er biete seinen Handgeschnitzten Grippen in einer großen Vielfalt an und doch ist jede ein Unikat aus seiner Meisterhand. Weiter im Weihnachtsland zwischen den vielen Tannenbäume und der großen Krippe\, ist ein vielseitiges Angebot an Weihnachtschmuck\, Stickerei und Handarbeit. Vom extravaganten Schmuck bist hin zum Zauberwerkzeug ist für alle Gäste etwas dabei. Der Staufersaal mit den bereits schon seit Jahren bekannten Händler wieder bestück. Sie zeigen wieder ausgefallen und Dekorative Geschenkideen für das Weihnachtsfest. Die ganze Stauferburg ist belebt und gefüllt mit einer Vielzahl an Händler und Unterhaltung. Tauchen Sie mit ein in den etwas andere Weihnachtzauber der Burg Katzenstein.\n16.+17. Dezember\nbeide Tage das „Duo Feuerzirkus“ mit „Stelzenlauf“ und „artisitschen Gaukelei“\nSamstag um 20:30 Uhr Feuerschau mit „Lumen Noctis“.\nDer geschichtlich interessierte Besucher kann den romantischen Weihnachtsmarkt auf Burg Katzenstein mit einem Streifzug durch die Vergangenheit\ndieser historischen und in weiten Teilen bestens erhaltenen Stauferburg verbinden.\nGastronomisch werden die Gäste von der Burgküche\, am Würstles und Glühweinstand im Burghof\, sowie der der Burggastronomie „Zum Marstall“ verwöhnt.\nÖffnungszeiten der Romantischen Burgweihnacht\nSa. 15.00 – 21.00 Uhr So. 11.00 – 18.00 Uhr\nEin kostenloser Busshuttle bringt Sie vom Parkplatz Härtsfeldsee zur Burg Katzenstein.\nEintrittspreise Weihnachtsmarkt und Burg:\nKinder bis 3 Jahre sind frei Kinder\nab 4 – 16 Jahre. und Menschen mit Handicap\, 4\,00 €\nStudenten\, Rentner 5\,00 €\nErwachsener 6\,00 €\nDer Eintritt dient zum Erhalt der Burg Katzenstein!\nAls Dankeschön\, bezahlen die Gäste einmal Eintritt und können an allen weiteren Tag den Weihnachtsmarkt kostenlos besuchen.\nTiere sind auf Burg Katzenstein zum Schutz des Denkmals nicht erlaubt.\nKontakt und Information: Burg Katzenstein Tel. 07326 – 919 656\,\ninfo@burgkaztenstein.de\nwww.burgkatzenstein.de
URL:https://ostalbkids.de/event/burgweihnacht-auf-burg-katzenstein/
LOCATION:Burg Katzenstein\, Oberer Weiher 1-13\, Katzenstein\, Bayern\, 89561\, Deutschland
ORGANIZER;CN="Burg Katzenstein":MAILTO:info@burgkatzenstein.de
END:VEVENT
BEGIN:VEVENT
DTSTART;VALUE=DATE:20231221
DTEND;VALUE=DATE:20240108
DTSTAMP:20260422T020808
CREATED:20231228T093647Z
LAST-MODIFIED:20231228T093647Z
UID:1978-1703116800-1704671999@ostalbkids.de
SUMMARY:Weihnachtszirkus\, Ulm
DESCRIPTION:Weihnachtszirkus in Ulm in der Friedrichsau\nBereits zum 14. Mal heißt es „Manege frei“ für die beliebteste Weihnachtscircus-Show der Region! \nWie der Weihnachtsmarkt\, die zauberhafte Altstadt\, das malerische Fischerviertel und das Ulmer Münster gehört unsere beliebte Circusshow einfach schon fest zur Weihnachtstradition! \nZum 14-jährigen Bestehen präsentieren wir Ihnen die „Creme de la Creme“ aus der internationalen Circuswelt\, mit Artisten aus ganz Europa\, Südamerika und aus der Ukraine! Das Beste ist uns gerade gut genug für unser treues\, fachkundiges und begeisterungsfähiges Publikum voller Herzlichkeit. \nFreuen Sie sich auf eine völlig neue\, speziell für die Winterspielzeit in Ulm zusammengestellte Show und erleben Sie viele einzigartige und faszinierende Darbietungen von absoluter internationaler Spitzenklasse! \nNun ist es endlich wieder soweit: Die besten und erfolgreichsten Artisten der Welt reisen zur Weihnachtszeit nach Ulm\, darunter Preisträger des legendären „Internationalen Circus Festivals von Monte Carlo“\, wie die weltbekannte Artistentrupe „The Gerlings“\, edle Tiere\, wahre Meister der Clownerie aus Spanien und jede Menge Überraschungen im schönsten Weihnachts-Ambiente. Die Zeltanlagen des Ulmer Weihnachtscircus werden wieder ein „Winter Wonderland“ voller Glanz\, Glamour\, Spaß mit einer Show\, die man einfach nicht verpassen sollte.\ntäglich 15:30 und 19:30\nhttps://www.ulmer-weihnachtscircus.de/
URL:https://ostalbkids.de/event/weihnachtszirkus-ulm/
END:VEVENT
BEGIN:VEVENT
DTSTART;TZID=UTC:20231222T143000
DTEND;TZID=UTC:20231222T170000
DTSTAMP:20260422T020808
CREATED:20231102T171923Z
LAST-MODIFIED:20231102T171923Z
UID:1841-1703255400-1703264400@ostalbkids.de
SUMMARY:Lies mit mir! Weihnachstbasteln für Kinder ab 5 Jahren
DESCRIPTION:Lies mit mir! Weihnachstbasteln für Kinder ab 5 Jahren.\nOrt: Bücherei Unterkochen
URL:https://ostalbkids.de/event/lies-mit-mir-weihnachstbasteln-fuer-kinder-ab-5-jahren-3/
END:VEVENT
BEGIN:VEVENT
DTSTART;TZID=UTC:20231229T160000
DTEND;TZID=UTC:20231229T170000
DTSTAMP:20260422T020808
CREATED:20231227T160344Z
LAST-MODIFIED:20231227T160344Z
UID:1970-1703865600-1703869200@ostalbkids.de
SUMMARY:Woozle Goozle\, Kindermusical\, Aalen
DESCRIPTION:Woozle Goozle kommt mit einem waschechten Woozical auf große Tournee durch Deutschlands Stadthallen und Theater. \nHierbei führt uns der TV-Held durch eine spannende und lehrreiche aber vor allem lustige und manchmal auch chaotische Reise durch die Zeit. \nWoozle lernt bei den Proben zum Finale des großen Kindererfinderwettbewerbs das Mädchen Leonie kennen. Diese ist furchtbar traurig\, denn ihre Erfindung\, mit der sie beim Wettbewerb antreten wollte\, wurde gerade irreparabel zerstört. Zu gerne würde sie in die Vergangenheit reisen\, um eben dies zu verhindern. Glücklicherweise hat Woozle gerade eine Raum-Zeitmaschine erfunden und fertiggestellt. Nun wollen sie für nur fünf Minuten in die Vergangenheit reisen. Allerdings funktioniert die Zeitmaschine nicht so wie geplant und sie reisen viel\, viel weiter in die Vergangenheit.  \nZu allem Überfluss geht die Maschine auch noch kaputt. Doch Woozle wäre nicht Woozle wenn er aufgeben würde und so reisen sie durch verschiedene Epochen\, in denen spannende Abenteuer auf die beiden warten.\nSchaffen es Woozle und Leonie wieder zurück in die Gegenwart und kann Woozle dem Mädchen doch noch bei der Lösung ihres Problems helfen? \nWie auch schon “Der kleine Drache Kokosnuss” und “Jan und Henry” stammt auch “Woozle Goozle” von den Theater Lichtermeer-Hausautoren und -Komponisten Jan Radermacher und Timo Riegelsberger. Dies verspricht ein lustiges und spannendes Abenteuer mit lustigen Figuren\, einer verspielten Inszenierung und einem ausgefuchsten Bühnenbild. Natürlich gibt es auch jede Menge toller Songs\, die Woozle und seine Weggefährten zum Besten geben.\n„Woozle Goozle“ bzw. „Woozle Goozle und die Weltentdecker“ ist ein deutsches Wissensmagazin für Kinder\, das seit 2013 auf Super RTL im Programmblock Toggo ausgestrahlt wird. Moderiert wird die Serie von Simón Albers und einer blauen Klappmaulpuppe namens Woozle. Puppenspieler von Woozle ist Martin Reinl\, der hierfür 2015 mit dem Kindermedien-Preis „Der weiße Elefant“ und 2016 mit „Der goldene Spatz“ ausgezeichnet wurde.\nDas Theater Lichtermeer fühlt sich geehrt\, den aus Toggolino bekannten blauen Helden nun exklusiv auf die Bühne bringen zu dürfen.
URL:https://ostalbkids.de/event/woozle-goozle-kindermusical-aalen/
LOCATION:Stadthalle\, Aalen\, Berliner Paltz 1\, Aalen\, 73430
END:VEVENT
END:VCALENDAR