BEGIN:VCALENDAR
VERSION:2.0
PRODID:-//Ausflüge &amp; Veranstaltungen für Kinder im Ostalbkreis - ECPv6.15.20//NONSGML v1.0//EN
CALSCALE:GREGORIAN
METHOD:PUBLISH
X-WR-CALNAME:Ausflüge &amp; Veranstaltungen für Kinder im Ostalbkreis
X-ORIGINAL-URL:https://ostalbkids.de
X-WR-CALDESC:Veranstaltungen für Ausflüge &amp; Veranstaltungen für Kinder im Ostalbkreis
REFRESH-INTERVAL;VALUE=DURATION:PT1H
X-Robots-Tag:noindex
X-PUBLISHED-TTL:PT1H
BEGIN:VTIMEZONE
TZID:UTC
BEGIN:STANDARD
TZOFFSETFROM:+0000
TZOFFSETTO:+0000
TZNAME:UTC
DTSTART:20220101T000000
END:STANDARD
END:VTIMEZONE
BEGIN:VEVENT
DTSTART;TZID=UTC:20230723T100000
DTEND;TZID=UTC:20230723T170000
DTSTAMP:20260422T094213
CREATED:20230625T202740Z
LAST-MODIFIED:20230625T202740Z
UID:1473-1690106400-1690131600@ostalbkids.de
SUMMARY:Aalener Stadtlauf
DESCRIPTION:Stadtlauf auch für die ganz kleinen.
URL:https://ostalbkids.de/event/aalener-stadtlauf/
LOCATION:Aalener Innenstadt\, Marktplatz 1\, Aalen\, 73430
END:VEVENT
BEGIN:VEVENT
DTSTART;VALUE=DATE:20230727
DTEND;VALUE=DATE:20230910
DTSTAMP:20260422T094213
CREATED:20230726T180448Z
LAST-MODIFIED:20230726T180448Z
UID:1507-1690416000-1694303999@ostalbkids.de
SUMMARY:Möbel Rieger Zirkus Aalen
DESCRIPTION:kleiner Zirkus – Eintritt 3€ \nHüpfburgen & Co. Eintritt frei
URL:https://ostalbkids.de/event/moebel-rieger-zirkus-aalen/
LOCATION:Möbel Rieger Aalen
END:VEVENT
BEGIN:VEVENT
DTSTART;TZID=UTC:20230727T173000
DTEND;TZID=UTC:20230727T203000
DTSTAMP:20260422T094213
CREATED:20230726T051246Z
LAST-MODIFIED:20230727T141813Z
UID:1505-1690479000-1690489800@ostalbkids.de
SUMMARY:Stockbrotparty im Stadtgarten
DESCRIPTION:Stockbrot und Stöcke werden bereitgestellt. Feuerschalen stellt die Feuerwehr. \nEs gibt auch eine Hüpfburg.
URL:https://ostalbkids.de/event/stockbrotparty-im-stadtgarten/
LOCATION:Aalener Innenstadt\, Marktplatz 1\, Aalen\, 73430
END:VEVENT
BEGIN:VEVENT
DTSTART;TZID=UTC:20230729T080000
DTEND;TZID=UTC:20230908T170000
DTSTAMP:20260422T094213
CREATED:20230719T173936Z
LAST-MODIFIED:20230719T173936Z
UID:1499-1690617600-1694192400@ostalbkids.de
SUMMARY:Ferienprogramm der Stadt Aalen
DESCRIPTION:Viele verschiedene Aktivitäten werden geboten. Programm über Link downloaden.
URL:https://ostalbkids.de/event/ferienprogramm-der-stadt-aalen/
LOCATION:Aalener Innenstadt\, Marktplatz 1\, Aalen\, 73430
END:VEVENT
BEGIN:VEVENT
DTSTART;TZID=UTC:20230729T140000
DTEND;TZID=UTC:20230729T180000
DTSTAMP:20260422T094213
CREATED:20230611T113726Z
LAST-MODIFIED:20230611T121626Z
UID:1370-1690639200-1690653600@ostalbkids.de
SUMMARY:Familiengruppe Schw. Albverein Aalen Zum Himmelreich
DESCRIPTION:Treffpunkt: Wanderparkplatz Beurener Straße\, Heubach\, Richtung Beuren\, 14.00 Uhr \nFam. Nar \nInfos unter familiengruppe-aalen@gmx.de \nBitte stimmen Sie die Teilnahme mit dem Veranstalter ab.
URL:https://ostalbkids.de/event/familiengruppe-schw-albverein-aalen-zum-himmelreich/
END:VEVENT
END:VCALENDAR