BEGIN:VCALENDAR
VERSION:2.0
PRODID:-//Ausflüge &amp; Veranstaltungen für Kinder im Ostalbkreis - ECPv6.15.20//NONSGML v1.0//EN
CALSCALE:GREGORIAN
METHOD:PUBLISH
X-ORIGINAL-URL:https://ostalbkids.de
X-WR-CALDESC:Veranstaltungen für Ausflüge &amp; Veranstaltungen für Kinder im Ostalbkreis
REFRESH-INTERVAL;VALUE=DURATION:PT1H
X-Robots-Tag:noindex
X-PUBLISHED-TTL:PT1H
BEGIN:VTIMEZONE
TZID:UTC
BEGIN:STANDARD
TZOFFSETFROM:+0000
TZOFFSETTO:+0000
TZNAME:UTC
DTSTART:20250101T000000
END:STANDARD
END:VTIMEZONE
BEGIN:VEVENT
DTSTART;VALUE=DATE:20260424
DTEND;VALUE=DATE:20261005
DTSTAMP:20260422T095534
CREATED:20260421T072523Z
LAST-MODIFIED:20260421T073538Z
UID:3752-1776988800-1791158399@ostalbkids.de
SUMMARY:Landesgartenschau\, Ellwangen
DESCRIPTION:Die Landesgartenschau Ellwangen 2026 (vom 24. April bis 4. Oktober) bietet zahlreiche kinderfreundliche Angebote mit Fokus auf Natur\, Spiel und Lernen. Kinder bis 17 Jahre haben freien Eintritt. \nSpielplätze und Abenteuer\nDer Auenspielplatz im Auenpark ist der größte in Ellwangen mit Seilbahn\, 9-Meter-Aussichtsturm „Jagstblick“ mit Rutsche\, Karussell\, Balancier- und Sandspieleinheiten – kinderwünsche wurden direkt umgesetzt. Es gibt einen Wasserspielplatz am Stadtstrand und einen Naturerlebnispfad mit Murmelbahn zum sinnlichen Erkunden. \nBildungs- und Bastelangebote\nIm „Grünen Klassenzimmer“ lernen Kinder spielerisch über Natur und Umwelt in über 50 Kursen unter freiem Himmel. Ferienprogramme umfassen Basteln (z. B. Insektenhotels\, Papierdrachen)\, Schnitzeljagden und Spiele wie „kotzendes Känguru“.
URL:https://ostalbkids.de/event/landesgartenschau-ellwangen/
END:VEVENT
END:VCALENDAR