BEGIN:VCALENDAR
VERSION:2.0
PRODID:-//Ausflüge &amp; Veranstaltungen für Kinder im Ostalbkreis - ECPv6.15.20//NONSGML v1.0//EN
CALSCALE:GREGORIAN
METHOD:PUBLISH
X-WR-CALNAME:Ausflüge &amp; Veranstaltungen für Kinder im Ostalbkreis
X-ORIGINAL-URL:https://ostalbkids.de
X-WR-CALDESC:Veranstaltungen für Ausflüge &amp; Veranstaltungen für Kinder im Ostalbkreis
REFRESH-INTERVAL;VALUE=DURATION:PT1H
X-Robots-Tag:noindex
X-PUBLISHED-TTL:PT1H
BEGIN:VTIMEZONE
TZID:UTC
BEGIN:STANDARD
TZOFFSETFROM:+0000
TZOFFSETTO:+0000
TZNAME:UTC
DTSTART:20230101T000000
END:STANDARD
END:VTIMEZONE
BEGIN:VEVENT
DTSTART;VALUE=DATE:20241201
DTEND;VALUE=DATE:20250107
DTSTAMP:20260421T082820
CREATED:20241224T144952Z
LAST-MODIFIED:20251130T122643Z
UID:2763-1733011200-1736207999@ostalbkids.de
SUMMARY:Ebnater Krippenweg\, Aalen
DESCRIPTION:70 sehr abwechslungsreich und schöne Stationen\, vermutlich ab 16:00 Uhr beleuchtet \nBeginn: Schützenhaus\, Ringstraße 68\, 73432 Aalen\ndort links am Schützhaus vorbei in den Wald. Nach geschätz va. 200m links abbiegen. Der Weg führ dann zu Maria Eich. Von dort den geschotterten Weg aus dem Wald raus nehmen. Nach verlassen des Waldes links am Waldrand entlang (teils matschig) zurück zum Schützenhaus. \nGesamtlänge geschätz 4 km. \n \n \n \n \n \n \n \n \n \n \n \n \n \nhttps://maps.app.goo.gl/bF6SjDaSrKVDeURw9
URL:https://ostalbkids.de/event/ebnater-weihnschtsweg-aalen/
END:VEVENT
BEGIN:VEVENT
DTSTART;TZID=UTC:20241206T150000
DTEND;TZID=UTC:20241206T180000
DTSTAMP:20260421T082820
CREATED:20240605T162036Z
LAST-MODIFIED:20240605T162210Z
UID:2459-1733497200-1733508000@ostalbkids.de
SUMMARY:weihnachtliche Nikolausführung\, Schloss Kapfenburg
DESCRIPTION:Wir suchen den Nikolaus\nEine weihnachtliche Schlossführung für Kinder \nNikolaustag auf Schloss Kapfenburg. Alle sind da\, nur einer fehlt – der Nikolaus! Gemeinsam mit Schlossführerin Sonja Heinen und ihrem Assistenten d’Artagnan begeben sich die Gäste auf die Suche nach ihm.  \nFreitag\, den 06. Dezember 2024\, 17.00 Uhr\, Treffpunkt unterer Torbogen\nzwei Uhrzeiten (gleiche Führung): 15:00 Uhr oder 17:00 Uhr \nPreise\n8\,00 Euro Kinder (inkl. kleinem Nikolausgeschenk)\n5\,00 Euro Erwachsene \nBitte tragen Sie die Vornamen der Kinder bei der Buchung ins Feld „Bemerkungen“ ein\, damit der Nikolaus weiß\, für wen die Geschenke sind.
URL:https://ostalbkids.de/event/weihnachtliche-nikolausfuehrung-schloss-kapfenburg/
LOCATION:Kapfenburg\, Schloss Kapfenburg\, Lauchheim\, 73466
ORGANIZER;CN="Kulturzentrum Schloss Kapfenburg":MAILTO:info@schloss-kapfenburg.de
END:VEVENT
END:VCALENDAR