BEGIN:VCALENDAR
VERSION:2.0
PRODID:-//Ausflüge &amp; Veranstaltungen für Kinder im Ostalbkreis - ECPv6.15.20//NONSGML v1.0//EN
CALSCALE:GREGORIAN
METHOD:PUBLISH
X-ORIGINAL-URL:https://ostalbkids.de
X-WR-CALDESC:Veranstaltungen für Ausflüge &amp; Veranstaltungen für Kinder im Ostalbkreis
REFRESH-INTERVAL;VALUE=DURATION:PT1H
X-Robots-Tag:noindex
X-PUBLISHED-TTL:PT1H
BEGIN:VTIMEZONE
TZID:UTC
BEGIN:STANDARD
TZOFFSETFROM:+0000
TZOFFSETTO:+0000
TZNAME:UTC
DTSTART:20230101T000000
END:STANDARD
END:VTIMEZONE
BEGIN:VEVENT
DTSTART;TZID=UTC:20241107T170000
DTEND;TZID=UTC:20241107T180000
DTSTAMP:20260421T093819
CREATED:20241105T073813Z
LAST-MODIFIED:20241106T174553Z
UID:2670-1730998800-1731002400@ostalbkids.de
SUMMARY:Martinsfeier\, Aalen
DESCRIPTION:Auf St. Martins Spuren – Martinsfeier am Limesmuseum\nDie Martinsfeier mit Aufführung und Laternenumzug ist ein ganz besonderes Highlight für Kinder und Erwachsene. Die Feier findet statt am Donnerstag\, 7. November um 17 Uhr auf dem Kastellgelände am Limesmuseum. \nDie Geschichte vom heiligen Martin steht im Mittelpunkt des Abends. Sie wird durch eine Aufführung für Groß und Klein inszeniert. Martin war früher einmal ein römischer Soldat und hat somit seinen historischen Ursprung auf dem UNESCO-Gelände des Limesmuseums. Mit selbst gebastelten Laternen dürfen die Kinder St. Martin den Weg beim abschließenden Martinsumzug weisen.  \nDie Feier wird von der Stadt Aalen gemeinsam mit den katholischen und evangelischen Kirchengemeinden veranstaltet. Das Martinsspiel wird stimmungsvoll gemeinsam mit dem\nReiterverein Aalen gestaltet. Die Mitglieder der Jugendkapelle Aalen sorgen für die musikalische Umrahmung. Abschließend gibt es einen Laternenumzug.  \nINFO\nDatum: Donnerstag\, 7. November\, 17 Uhr\, Kastellgelände am Limesmuseum.\nDer Zugang zum Freigelände des Limesmuseums erfolgt über den Eingang in der St. Johann-Straße.
URL:https://ostalbkids.de/event/martinsfeier/
LOCATION:Limesmuseum Aalen\, St.-Johann-Straße 5\, Aalen\, 73430\, Deutschland
END:VEVENT
END:VCALENDAR