BEGIN:VCALENDAR
VERSION:2.0
PRODID:-//Ausflüge &amp; Veranstaltungen für Kinder im Ostalbkreis - ECPv6.15.20//NONSGML v1.0//EN
CALSCALE:GREGORIAN
METHOD:PUBLISH
X-ORIGINAL-URL:https://ostalbkids.de
X-WR-CALDESC:Veranstaltungen für Ausflüge &amp; Veranstaltungen für Kinder im Ostalbkreis
REFRESH-INTERVAL;VALUE=DURATION:PT1H
X-Robots-Tag:noindex
X-PUBLISHED-TTL:PT1H
BEGIN:VTIMEZONE
TZID:UTC
BEGIN:STANDARD
TZOFFSETFROM:+0000
TZOFFSETTO:+0000
TZNAME:UTC
DTSTART:20230101T000000
END:STANDARD
END:VTIMEZONE
BEGIN:VEVENT
DTSTART;TZID=UTC:20240929T110000
DTEND;TZID=UTC:20240929T170000
DTSTAMP:20260421T133856
CREATED:20240629T060620Z
LAST-MODIFIED:20240629T061214Z
UID:2485-1727607600-1727629200@ostalbkids.de
SUMMARY:60 Jahre Limesmuseum und archäologischer Experimentiertag\, Limesmuseum Aalen
DESCRIPTION:60 Jahre Limesmuseum und archäologischer Experimentiertag\, Limesmuseum Aalen
URL:https://ostalbkids.de/event/archaeologischer-experimentiertag-limesmuseum-aalen/
LOCATION:Limesmuseum Aalen\, St.-Johann-Straße 5\, Aalen\, 73430\, Deutschland
END:VEVENT
END:VCALENDAR