BEGIN:VCALENDAR
VERSION:2.0
PRODID:-//Ausflüge &amp; Veranstaltungen für Kinder im Ostalbkreis - ECPv6.15.20//NONSGML v1.0//EN
CALSCALE:GREGORIAN
METHOD:PUBLISH
X-ORIGINAL-URL:https://ostalbkids.de
X-WR-CALDESC:Veranstaltungen für Ausflüge &amp; Veranstaltungen für Kinder im Ostalbkreis
REFRESH-INTERVAL;VALUE=DURATION:PT1H
X-Robots-Tag:noindex
X-PUBLISHED-TTL:PT1H
BEGIN:VTIMEZONE
TZID:UTC
BEGIN:STANDARD
TZOFFSETFROM:+0000
TZOFFSETTO:+0000
TZNAME:UTC
DTSTART:20230101T000000
END:STANDARD
END:VTIMEZONE
BEGIN:VEVENT
DTSTART;VALUE=DATE:20240913
DTEND;VALUE=DATE:20240916
DTSTAMP:20260421T131600
CREATED:20240421T082234Z
LAST-MODIFIED:20240421T082234Z
UID:2266-1726185600-1726444799@ostalbkids.de
SUMMARY:Reichsstädtertage\, Aalen
DESCRIPTION:DAS Aalener Stadtfest. Mit Fahrgeschäften für Kinder.
URL:https://ostalbkids.de/event/reichsstaedtertage-aalen/
LOCATION:Aalener Innenstadt\, Marktplatz 1\, Aalen\, 73430
END:VEVENT
END:VCALENDAR