BEGIN:VCALENDAR
VERSION:2.0
PRODID:-//Ausflüge &amp; Veranstaltungen für Kinder im Ostalbkreis - ECPv6.15.20//NONSGML v1.0//EN
CALSCALE:GREGORIAN
METHOD:PUBLISH
X-WR-CALNAME:Ausflüge &amp; Veranstaltungen für Kinder im Ostalbkreis
X-ORIGINAL-URL:https://ostalbkids.de
X-WR-CALDESC:Veranstaltungen für Ausflüge &amp; Veranstaltungen für Kinder im Ostalbkreis
REFRESH-INTERVAL;VALUE=DURATION:PT1H
X-Robots-Tag:noindex
X-PUBLISHED-TTL:PT1H
BEGIN:VTIMEZONE
TZID:UTC
BEGIN:STANDARD
TZOFFSETFROM:+0000
TZOFFSETTO:+0000
TZNAME:UTC
DTSTART:20230101T000000
END:STANDARD
END:VTIMEZONE
BEGIN:VEVENT
DTSTART;TZID=UTC:20240725T080000
DTEND;TZID=UTC:20240907T170000
DTSTAMP:20260421T135734
CREATED:20240726T154621Z
LAST-MODIFIED:20240726T160634Z
UID:2541-1721894400-1725728400@ostalbkids.de
SUMMARY:seeehr viele Angebote im Ferienprogramm der Stadt Aalen - Programmheft gibt es hier
DESCRIPTION:Programm der Stadt Aalen: Aalen_-_SJR_-_Ferienprogramm_2024_-_Programmheft_(1) \nvom Haus der Jugend/ Weststadtzentrum\nDatum 	  	        Veranstalter                    Ort                             Was       	Alter 	Gebühr 	Plätze\nSA 27.07. 	  	Haus der Jugend Aalen	        Schlossspielplatz Wasseralfi    Blauwagen und Mandalas 	0\,00€\nMO 29.07. 	  	Jugendt. WeststadtZent	        Wasseralfingen	                Grillausflug 	ab 10 	5\,00€ 	15\nDI 30.07. 	  	Haus der Jugend Aalen		Stadtgarten Aalen	        Blauwagen Märchenbrunnen 		0\,00€\nDI 30.07. 	  	Haus der Jugend Aalen		Stadtgarten Aalen	        Blauwagen und Zirkus Zeltlos 		0\,00€\nDO 01.08. 	  	Haus der Jugend Aalen		Schlossspielplatz Wasseralfi    Blauwagen Flohtanz 		0\,00€\nFR 02.08. 	  	Jugendt. WeststadtZent		Aalen – Itzelberg	        Ausflug zur Minigolfanlage am Itzelberger See 	ab 9 	7\,00€\nSO 04.08. 	  	Haus der Jugend Aalen		Haus der Jugend	                Ausflug zur Falknerei Kraus Abtsgmünd 	9-12 	25\,00€ 	7\nMO 05.08. 	  	Jugendt. WeststadtZent		Aalen – München	                Besuch des Bavaria Filmstudios München 	ab 10 	30\,00€\nDI 06.08. 	  	Haus der Jugend Aalen		Friedhofstraße 8 in 73430 Aa    Ausflug zum Wildpark in Bad Mergentheim 	10-14 	20\,00€\nDI 06.08. 	  	Haus der Jugend Aalen		Schlossspielplatz Wasseralfi	Blauwagen Jonglierwerkstatt 		0\,00€\nMI 07.08. 	  	Jugendt. WeststadtZent		Aalen – Scheidegg	        Ausflug zum Skywalk ins Allgäu 	ab 9 	15\,00€\nMI 07.08. 	  	Haus der Jugend Aalen		Friedhofstraße 8 in 73430 Aa	Die befleckte Schönheit – Wir besuchen die Sternwarte 	8-12 	0\,00€\nDO 08.08. 	  	                                Schlossspielplatz Wasseralfi	Blauwagen Basteln mit Papier 		0\,00€\nFR 09.08. 	  	Jugendtreff im WeststadtZent	Sommerferienprogramm 2024	Freibad in Unterrombach	Familientag im Bädle 		0\,00€\nDI 13.08. 	  	Haus der Jugend Aalen		Schlossspielplatz Wasseralfi	Blauwagen und Animation 	0\,00€\nDI 20.08. 	  	Haus der Jugend Aalen		Schlossspielplatz Wasseralfi	Blauwagen und Märchenbrunnen 	0\,00€\nDO 22.08. 	  	Haus der Jugend Aalen		Schlossspielplatz Wasseralfi	Blauwagen und Werkeln 		0\,00€\nDO 29.08. 	  	Haus der Jugend Aalen		Schlossspielplatz Wasseralfi	Blauwagen und Pflanzendrucke 	0\,00€\nDI 03.09. 	  	Haus der Jugend Aalen		Spielplatz an der Hochbrücke	Blauwagen und Werkeln 		0\,00€\nDO 05.09. 	  	Haus der Jugend Aalen		Spielplatz an der Hochbrücke	Blauwagen und Flohtanz  \noder bei der Stadthomepage unter: https://www.aalen.de/ferienprogramm.108594.25.htm
URL:https://ostalbkids.de/event/ferienprogramm-der-stadt-aalen-2/
END:VEVENT
BEGIN:VEVENT
DTSTART;VALUE=DATE:20240902
DTEND;VALUE=DATE:20240907
DTSTAMP:20260421T135734
CREATED:20240324T122543Z
LAST-MODIFIED:20240324T122543Z
UID:2179-1725235200-1725667199@ostalbkids.de
SUMMARY:Girls' Digital Mädchencamp\, Aalen
DESCRIPTION:Mo\, 02.09. – Fr\, 06.09.\nGirls‘ Digital Mädchencamp\, Alter 11 bis 14 Jahre\nmehr \nIn diesem Feriencamp nur für Mädchen kannst du im Team an einem eigenen digitalen Projekt arbeiten. Die Idee dafür entsteht am ersten Tag im kreativen Austausch. In der explorhino Werkstatt im AAccelerator stehen dir dafür viele Maschinen\, Geräte und Materialien zur Verfügung. Zusätzlich gibt es ein buntes Rahmenprogramm mit Workshops\, Firmenbesuch und Einblick in ein Hochschullabor. Auch Spiel und Spaß kommen dabei nicht zu kurz. Übernachtet wird im Naturfreundehaus auf dem Braunenberg. \nVor dem Camp bekommst du in mehreren Kurseinheiten einen Einblick in digitale Themen. \nDie Teilnehmenden sollten mindestens die 5. Klasse abgeschlossen haben. \nAlter: 11 bis 14 Jahre \nBeginn: Montag\, 02. September\, 9:00 Uhr \nEnde: Freitag\, 06. September\, gegen 16:30 Uhr – Abschlusspräsentation für Eltern und Geschwister um 15:30 Uhr \nKosten: 110 € inkl. Übernachtung und Vollpension\, Ermäßigung auf Anfrage möglich. (Der Teilnehmerbeitrag wird durch das Transferprojekt „Girls’Digital Camps“ unterstützt) \nAnmeldeschluss: 25.07.2024
URL:https://ostalbkids.de/event/girls-digital-maedchencamp-aalen/
ORGANIZER;CN="explorhino":MAILTO:inof@explorhino.de
END:VEVENT
END:VCALENDAR