BEGIN:VCALENDAR
VERSION:2.0
PRODID:-//Ausflüge &amp; Veranstaltungen für Kinder im Ostalbkreis - ECPv6.15.20//NONSGML v1.0//EN
CALSCALE:GREGORIAN
METHOD:PUBLISH
X-ORIGINAL-URL:https://ostalbkids.de
X-WR-CALDESC:Veranstaltungen für Ausflüge &amp; Veranstaltungen für Kinder im Ostalbkreis
REFRESH-INTERVAL;VALUE=DURATION:PT1H
X-Robots-Tag:noindex
X-PUBLISHED-TTL:PT1H
BEGIN:VTIMEZONE
TZID:UTC
BEGIN:STANDARD
TZOFFSETFROM:+0000
TZOFFSETTO:+0000
TZNAME:UTC
DTSTART:20230101T000000
END:STANDARD
END:VTIMEZONE
BEGIN:VEVENT
DTSTART;TZID=UTC:20240725T080000
DTEND;TZID=UTC:20240907T170000
DTSTAMP:20260421T150400
CREATED:20240726T154621Z
LAST-MODIFIED:20240726T160634Z
UID:2541-1721894400-1725728400@ostalbkids.de
SUMMARY:seeehr viele Angebote im Ferienprogramm der Stadt Aalen - Programmheft gibt es hier
DESCRIPTION:Programm der Stadt Aalen: Aalen_-_SJR_-_Ferienprogramm_2024_-_Programmheft_(1) \nvom Haus der Jugend/ Weststadtzentrum\nDatum 	  	        Veranstalter                    Ort                             Was       	Alter 	Gebühr 	Plätze\nSA 27.07. 	  	Haus der Jugend Aalen	        Schlossspielplatz Wasseralfi    Blauwagen und Mandalas 	0\,00€\nMO 29.07. 	  	Jugendt. WeststadtZent	        Wasseralfingen	                Grillausflug 	ab 10 	5\,00€ 	15\nDI 30.07. 	  	Haus der Jugend Aalen		Stadtgarten Aalen	        Blauwagen Märchenbrunnen 		0\,00€\nDI 30.07. 	  	Haus der Jugend Aalen		Stadtgarten Aalen	        Blauwagen und Zirkus Zeltlos 		0\,00€\nDO 01.08. 	  	Haus der Jugend Aalen		Schlossspielplatz Wasseralfi    Blauwagen Flohtanz 		0\,00€\nFR 02.08. 	  	Jugendt. WeststadtZent		Aalen – Itzelberg	        Ausflug zur Minigolfanlage am Itzelberger See 	ab 9 	7\,00€\nSO 04.08. 	  	Haus der Jugend Aalen		Haus der Jugend	                Ausflug zur Falknerei Kraus Abtsgmünd 	9-12 	25\,00€ 	7\nMO 05.08. 	  	Jugendt. WeststadtZent		Aalen – München	                Besuch des Bavaria Filmstudios München 	ab 10 	30\,00€\nDI 06.08. 	  	Haus der Jugend Aalen		Friedhofstraße 8 in 73430 Aa    Ausflug zum Wildpark in Bad Mergentheim 	10-14 	20\,00€\nDI 06.08. 	  	Haus der Jugend Aalen		Schlossspielplatz Wasseralfi	Blauwagen Jonglierwerkstatt 		0\,00€\nMI 07.08. 	  	Jugendt. WeststadtZent		Aalen – Scheidegg	        Ausflug zum Skywalk ins Allgäu 	ab 9 	15\,00€\nMI 07.08. 	  	Haus der Jugend Aalen		Friedhofstraße 8 in 73430 Aa	Die befleckte Schönheit – Wir besuchen die Sternwarte 	8-12 	0\,00€\nDO 08.08. 	  	                                Schlossspielplatz Wasseralfi	Blauwagen Basteln mit Papier 		0\,00€\nFR 09.08. 	  	Jugendtreff im WeststadtZent	Sommerferienprogramm 2024	Freibad in Unterrombach	Familientag im Bädle 		0\,00€\nDI 13.08. 	  	Haus der Jugend Aalen		Schlossspielplatz Wasseralfi	Blauwagen und Animation 	0\,00€\nDI 20.08. 	  	Haus der Jugend Aalen		Schlossspielplatz Wasseralfi	Blauwagen und Märchenbrunnen 	0\,00€\nDO 22.08. 	  	Haus der Jugend Aalen		Schlossspielplatz Wasseralfi	Blauwagen und Werkeln 		0\,00€\nDO 29.08. 	  	Haus der Jugend Aalen		Schlossspielplatz Wasseralfi	Blauwagen und Pflanzendrucke 	0\,00€\nDI 03.09. 	  	Haus der Jugend Aalen		Spielplatz an der Hochbrücke	Blauwagen und Werkeln 		0\,00€\nDO 05.09. 	  	Haus der Jugend Aalen		Spielplatz an der Hochbrücke	Blauwagen und Flohtanz  \noder bei der Stadthomepage unter: https://www.aalen.de/ferienprogramm.108594.25.htm
URL:https://ostalbkids.de/event/ferienprogramm-der-stadt-aalen-2/
END:VEVENT
BEGIN:VEVENT
DTSTART;TZID=UTC:20240820T080000
DTEND;TZID=UTC:20240903T170000
DTSTAMP:20260421T150400
CREATED:20240820T230054Z
LAST-MODIFIED:20240820T230054Z
UID:2595-1724140800-1725382800@ostalbkids.de
SUMMARY:Rieger Ferienprogramm mit Zirkus
DESCRIPTION:Mit einfachem Zirkus (Eintritt 3€)\, Hüpfburg usw.\nKindern bis ca. 10 Jahren wir es gefallen \nhttps://www.moebel-rieger.de/ferienfestival-aalen/
URL:https://ostalbkids.de/event/rieger-ferienprogramm-mit-zirkus/
END:VEVENT
BEGIN:VEVENT
DTSTART;TZID=UTC:20240820T094500
DTEND;TZID=UTC:20240820T110000
DTSTAMP:20260421T150400
CREATED:20240726T152535Z
LAST-MODIFIED:20240726T152535Z
UID:2522-1724147100-1724151600@ostalbkids.de
SUMMARY:explorhino\, Aalen
DESCRIPTION:Luft ist überall um uns herum. Wir brauchen sie um zu überleben. Aber kann sie noch mehr? Kann sie Dinge wachsen lassen\, schwere Lasten hochheben und Maschinen in Bewegung bringen? Erkundet mit uns wie stark Luft ist und lasst die Puppen mit ihrer Hilfe tanzen. \noder: \nBlaukraut bleibt Blaukraut – oder doch nicht? Gemeinsam gehen wir dem Farbgeheimnis des Blaukrauts auf den Grund und finden heraus\, was manche Pflanzen dazu bringt ihre Farbe zu wechseln. Erkundet mit uns die kunterbunte Farbchemie des Chamäleons unter den Gemüsesorten und nehmt am Ende eure eigenen Chamäleonperlen mit nach Hause. \n**************************** \nGeeignet für Kinder von 6 – 8 Jahren. \nKurskosten pro Kind: 6 Euro. \nNach dem Kurs gibt es in unserer interaktiven Ausstellung noch weitere Experimente zu entdecken und auszuprobieren. Hierfür gibt es einen ermäßigten Eintritt von 4 Euro. Für den Besuch der Ausstellung ist die Begleitung eines Erwachsenen nötig. \n****************************\nAnmeldung/ Infos unter: https://explorhino.de/kalender/
URL:https://ostalbkids.de/event/explorhino-aalen-3/
LOCATION:explorhino\, Beethovenstraße 12\, Aalen\, 73430\, Deutschland
ORGANIZER;CN="explorhino":MAILTO:inof@explorhino.de
END:VEVENT
END:VCALENDAR