BEGIN:VCALENDAR
VERSION:2.0
PRODID:-//Ausflüge &amp; Veranstaltungen für Kinder im Ostalbkreis - ECPv6.15.20//NONSGML v1.0//EN
CALSCALE:GREGORIAN
METHOD:PUBLISH
X-ORIGINAL-URL:https://ostalbkids.de
X-WR-CALDESC:Veranstaltungen für Ausflüge &amp; Veranstaltungen für Kinder im Ostalbkreis
REFRESH-INTERVAL;VALUE=DURATION:PT1H
X-Robots-Tag:noindex
X-PUBLISHED-TTL:PT1H
BEGIN:VTIMEZONE
TZID:UTC
BEGIN:STANDARD
TZOFFSETFROM:+0000
TZOFFSETTO:+0000
TZNAME:UTC
DTSTART:20230101T000000
END:STANDARD
END:VTIMEZONE
BEGIN:VEVENT
DTSTART;TZID=UTC:20240619T180000
DTEND;TZID=UTC:20240619T180000
DTSTAMP:20260421T174931
CREATED:20240329T140719Z
LAST-MODIFIED:20240329T141010Z
UID:2219-1718820000-1718820000@ostalbkids.de
SUMMARY:Der Räuber Hotzenplotz\, Naturtheater Heidenheim
DESCRIPTION:
URL:https://ostalbkids.de/event/der-raeuber-hotzenplotz-naturtheater-heidenheim-2/
END:VEVENT
BEGIN:VEVENT
DTSTART;TZID=UTC:20240619T180000
DTEND;TZID=UTC:20240619T200000
DTSTAMP:20260421T174931
CREATED:20240329T140957Z
LAST-MODIFIED:20240616T015458Z
UID:2221-1718820000-1718827200@ostalbkids.de
SUMMARY:DER ZAUBERER VON OZ\, Brenzpark Heidenheim
DESCRIPTION:Premiere\nOH!: Junge Oper 2024\nMusiktheater für alle ab fünf Jahren \nMusikalische Leitung: Mareike Jörling\nInszenierung: Annika Nitsch\nBühne und Kostüme: VestAndPage (Verena Stenke & Andrea Pagnes)\nLichtdesign: Hartmut Litzinger\nMusikpädagogik: Christine Frühe-Böhni \nEine musikalische Reise ins Land über dem Regenbogen für alle ab fünf Jahren von Lucy Landymore (Musik) und Stephan Knies (Text)\nAuftragswerk der Opernfestspiele Heidenheim\nUraufführung \nICH HAB EINEN WUNSCH\, DER IST RIESENGROSS… \nDie Geschichte von Dorothy aus Kansas hat Generationen von Kindern verzaubert. Denn sie kann verzaubern\, im Gegensatz zum „großen und mächtigen Zauberer von Oz“. Dorothy wird zur Heldin (und das passt zum Festspielmotto!) im fremden Land. Ihre Freunde\, der feige Löwe\, der herzlose Blechmann und die verstandlose Vogelscheuche helfen ihr dabei… \nFür die Junge Oper 2023 ist Der Zauberer von Oz als Aufragswerk entstanden und erlebt im Opernzelt die Uraufführung. Komponistin ist Lucy Landymore\, BBC Young Musician of the Year und Schlagzeugerin bei Hans Zimmer. Regie führt Annika Nitsch\, die sich dem Heidenheimer Publikum mit der Inszenierung von Moses´ Entscheidung vorgestellt hat\, und die Ausstattung kommt vom weltweit erfolgreichen Künstlerduo VestAndPage. \nKlavier\, Schlagzeug\, drei Sänger*innen und eine Kinderdarstellerin als Dorothy – im Opernzelt gibt es in kleiner Besetzung mal wieder eine große Junge Oper für Alle!
URL:https://ostalbkids.de/event/der-zauberer-von-oz-brenzpark-heidenheim/
END:VEVENT
END:VCALENDAR