BEGIN:VCALENDAR
VERSION:2.0
PRODID:-//Ausflüge &amp; Veranstaltungen für Kinder im Ostalbkreis - ECPv6.15.20//NONSGML v1.0//EN
CALSCALE:GREGORIAN
METHOD:PUBLISH
X-WR-CALNAME:Ausflüge &amp; Veranstaltungen für Kinder im Ostalbkreis
X-ORIGINAL-URL:https://ostalbkids.de
X-WR-CALDESC:Veranstaltungen für Ausflüge &amp; Veranstaltungen für Kinder im Ostalbkreis
REFRESH-INTERVAL;VALUE=DURATION:PT1H
X-Robots-Tag:noindex
X-PUBLISHED-TTL:PT1H
BEGIN:VTIMEZONE
TZID:UTC
BEGIN:STANDARD
TZOFFSETFROM:+0000
TZOFFSETTO:+0000
TZNAME:UTC
DTSTART:20230101T000000
END:STANDARD
END:VTIMEZONE
BEGIN:VEVENT
DTSTART;TZID=UTC:20240614T140000
DTEND;TZID=UTC:20240616T170000
DTSTAMP:20260421T174650
CREATED:20240603T044341Z
LAST-MODIFIED:20240603T044341Z
UID:2446-1718373600-1718557200@ostalbkids.de
SUMMARY:1000 jähriges Stadtfest in Stödtlen
DESCRIPTION:Buntes Programm mit:\n– historische Gewerken\n– historischen Wettkämpfen\n– Festumzug
URL:https://ostalbkids.de/event/1000-jaehriges-stadtfest-in-stoedtlen/
END:VEVENT
BEGIN:VEVENT
DTSTART;TZID=UTC:20240616T100000
DTEND;TZID=UTC:20240616T180000
DTSTAMP:20260421T174650
CREATED:20240509T192014Z
LAST-MODIFIED:20240509T192042Z
UID:2357-1718532000-1718560800@ostalbkids.de
SUMMARY:Walderlebnistag des Ostalbkreises\, Neresheim
DESCRIPTION:Der Wald gestaltet die Landschaft\, spendet Leben und prägt unsere Kultur bis heute. Unser Leben war und ist eng mit dem Wald verbunden: Die meisten Wälder sind deshalb nicht Wildnis\, sondern kulturelles Erbe unserer Vorfahren – sie stecken voller Geschichte und Heimat.\nDer Wald ist außerdem ein wahrer Alleskönner. Er liefert uns Holz\, sauberes Wasser\, frische Luft. Für die Kleinen ist der Wald ein riesiger Abenteuerspielplatz. Den Großen bietet er einen Ausgleich zum oft hektischen Alltag. Obendrein ist er auch Lebensraum für eine Vielzahl an Tier- und Pflanzenarten. \nUns Forstleuten liegen der Wald und die Menschen gleichermaßen am Herzen. Deshalb bedeutet Waldbewirtschaftung für uns: Gestalten der Zukunft unserer Kinder und gleichzeitig Pflegen und Bewahren eines wichtigen Stückes Natur und Heimat!\nDer Walderlebnistag Neresheim ist genau das Richtige für einen Familienausflug am Sonntag!\nAuf einem ca. zwei Kilometer langen Rundweg durch den Wald mit 19 verschiedenen Stationen laden wir Jung und Alt zum Staunen\, Mitmachen\, Nachdenken und Spaß haben ein! \nWaldgebiet Eichert\nDer Walderlebnistag wird um 10:00 Uhr an der Eicherthütte offiziell eröffnet.
URL:https://ostalbkids.de/event/walderlebnistag-des-ostalbkreises-neresheim/
END:VEVENT
BEGIN:VEVENT
DTSTART;TZID=UTC:20240616T150000
DTEND;TZID=UTC:20240616T163000
DTSTAMP:20260421T174650
CREATED:20240530T082525Z
LAST-MODIFIED:20240530T082525Z
UID:2414-1718550000-1718555400@ostalbkids.de
SUMMARY:Kindertheater Elmar\, Freibad Spiesel
DESCRIPTION:Elmar ist ein Elefant. Allerdings ist er kein bisschen elefantenfarben wie seine Herde um ihn herum – er ist kunterbunt! Er trägt alle Farben\, die man sich nur vorstellen kann und ist für die Elefantenherde oft ein Farbklecks im grauen Alltag. Elmar stiftet seine Mitlebewesen oft dazu an\, neue Erfahrungen zu machen. Er begegnet jedem Abenteuer mit Freude und ist immer bereit\, sie mit seinen Freunden zu durchleben! \nDas Mitmach-Theaterstück ist für Kinder ab drei Jahren und wird nach der Premiere auf den Teppichen von Kindertagesstätten und im Alten Rathaus gespielt.
URL:https://ostalbkids.de/event/kindertheater-elmar-freibad-spiesel/
END:VEVENT
END:VCALENDAR