BEGIN:VCALENDAR
VERSION:2.0
PRODID:-//Ausflüge &amp; Veranstaltungen für Kinder im Ostalbkreis - ECPv6.15.20//NONSGML v1.0//EN
CALSCALE:GREGORIAN
METHOD:PUBLISH
X-ORIGINAL-URL:https://ostalbkids.de
X-WR-CALDESC:Veranstaltungen für Ausflüge &amp; Veranstaltungen für Kinder im Ostalbkreis
REFRESH-INTERVAL;VALUE=DURATION:PT1H
X-Robots-Tag:noindex
X-PUBLISHED-TTL:PT1H
BEGIN:VTIMEZONE
TZID:UTC
BEGIN:STANDARD
TZOFFSETFROM:+0000
TZOFFSETTO:+0000
TZNAME:UTC
DTSTART:20230101T000000
END:STANDARD
END:VTIMEZONE
BEGIN:VEVENT
DTSTART;VALUE=DATE:20240518
DTEND;VALUE=DATE:20240521
DTSTAMP:20260421T195620
CREATED:20240509T192426Z
LAST-MODIFIED:20240509T192426Z
UID:2359-1715990400-1716249599@ostalbkids.de
SUMMARY:Mittelaltermarkt mit Ritterturnier\, Burg Katzenstein\, Dischingen
DESCRIPTION:Mittelaltermarkt mit Ritterturnier vom 18.-20. Mai 2024 in und auf der Burg Katzenstein \nEine Zeitreise in die Welt des Mittelalters\, hautnah erleben.\nRitterturnier\, Schaukampfgruppen\, Lagerleben\, Handwerk\, Musik und Händler bieten Unterhaltung zu Pfingsten auf der Stauferburg Katzenstein. \nDie malerische Burg Katzenstein bietet wahrlich eine ideale Kulisse für einen Mittelaltermarkt mit Ritterturnier.\nDrei Tag lang wird die Stauferburg ihre Gäste in den Bann ziehen und Sie erleben eine Zeitreise in das 12. Jahrhundert. \nAkteure: „Die Kaskadeure“ Reiter aus Leidenschaft -Ritterturnier\nBrachmanoth unter Klaus Haidukiewitz kämpfen mit ihren Bihändern um das Gute und vertreibt das Böse.\nLumen Noctis mit der Feuerschau Samstag und Sonntagabend\nDie Gruppe der Augsburger Sollknechte mit Lagerleben und lebendiges Mittelalter\nFalkner mit seiner Flugschau \nAltes Handwerk:\nDrehleierbauer\, Seilerei\, Tuchweberey\, Kettler\, Bogenbauer\, Silberschmied. \nUnterhaltung und Musik “ Duo Joyosa Kilians und Tänzerin Mirimah“\, die Spielleute „Neumentroll“ und „Siegfried der Spielmann“.\nSchiffschaukel\, Gauklerei Trifabula.\nTrio Feuerzirkus mit Andrea von Mimikry \nAn allen Markttagen kann die gesamte Burg besichtigt werden. Steigt man auf den Katzenturm mit seinen 107 Stufen kann das bunte Markttreiben.\naus der Vogelperspektive beobachten werden. Im Bergfried finden Sie 1000 Jahre erlebbare Geschichte.\nGastronomisch verwöhnt werden die Gäste mit einem guten Angebot der Marktleute und dem Zuckerbäcker\,\nsowie die Burggastronomie\, entweder im wild romantischen Burghof oder der Burgschenke „Zum Marstall“. \nTauchen Sie ein\, in die Welt der Ritter\, Sagen und Legenden. \nÖffnungszeiten:\nSamstag und Sonntag: 11:00 – 22:30 Uhr\nMontag:                        11:00 – 19:00 Uhr\nTurnier:\nSamstag und Sonntag: um 14:00 Uhr Nachtturnier Sa. + So. um 21:30 Uhr\nMontag um 13:00 Uhr + 17:00 Uhr\nwww.burgkatzenstein.de\nInfo@burgkatzenstein.de \nAnmeldung für Händler und Lagergruppen \nHunde sind nicht erlaubt\, zum Schutz der Kinder\, des Denkmals und der hauseigenen Tiere.\nWir bitten um Ihr Verständnis.\nAuf Ihren Besuch freuen sich die Aussteller\, Akteure und die Familie Nomidis-Walter.
URL:https://ostalbkids.de/event/mittelaltermarkt-mit-ritterturnier-burg-katzenstein-dischingen/
LOCATION:Burg Katzenstein\, Oberer Weiher 1-13\, Katzenstein\, Bayern\, 89561\, Deutschland
ORGANIZER;CN="Burg Katzenstein":MAILTO:info@burgkatzenstein.de
END:VEVENT
BEGIN:VEVENT
DTSTART;TZID=UTC:20240519T110000
DTEND;TZID=UTC:20240519T170000
DTSTAMP:20260421T195620
CREATED:20240518T131940Z
LAST-MODIFIED:20240518T132608Z
UID:2387-1716116400-1716138000@ostalbkids.de
SUMMARY:Internat. Museumstag im Alamannenmuseum\, Ellwangen
DESCRIPTION:Aktuelles\nGroßer Aktionstag am Internationalen Museumstag am 19. Mai 2024\nInternationaler Museumstag 2024\nAm 19. Mai ist im Alamannenmuseum ein erlebnisreiches Programm für Jung und Alt mit zahlreichen Mitmachaktionen geboten – hier die Keltengruppe Carnyx aus Rottenburg am Neckar\, die an diesem Tag im Museumshof auftritt (Foto: Museum). \nAnlässlich des Internationalen Museumstages findet am Pfingstsonntag\, 19. Mai 2024\, im Alamannenmuseum wieder ein großer Aktionstag statt\, und das bei freiem Eintritt. Das Thema für 2024\, das die Museumsmitarbeiter für diesen Tag inspirieren soll\, lautet „Museen für Vermittlung und Forschung“. Die Leitlinie in Deutschland lautet „Museen mit Freude entdecken“. Von 11-17 Uhr wird im Alamannenmuseum ein erlebnisreiches Programm für Jung und Alt mit zahlreichen Mitmachaktionen geboten: \n    Die Mitglieder der Gruppe Carnyx aus Rottenburg am Neckar beschäftigen sich mit experimenteller Geschichtsdarstellung der keltischen Zeit. Die Keltengruppe\, bestehend aus Archäologen\, Archäologinnen und archäologisch Interessierten\, hat es sich zum Ziel gesetzt\, den Besuchern die keltische Epoche  zwischen ca. 800 und 100 v. Chr. näher zu bringen und Vorgeschichte im wahrsten Sinne des Wortes “begreifbar” machen. Gezeigt werden Ausrüstung und Bewaffnung keltischer Krieger\, Tracht und Schmuck der Frauen sowie eine keltische Küche. Vorgeführt werden Spinnen\, Brettchenweben\, die Herstellung von Fibeln\, Kettenhemden und Münzprägen. Kinder und Erwachsene dürfen mit verschiedenen Getreidemühlen Mehl herstellen\, mit Repliken kultischer Gegenstände wird erklärt\, was wir über die keltische Religion wissen.\n    Georg Däges aus Ulm wird von 11-17 Uhr auf Leier und Monochord nicht alltägliche Musik zu Gehör bringen. Er ist seit über 20 Jahren mit dem Alamannenmuseum verbunden. Der erste Leierbaukurs fand 2002 statt und seit 2003 gab es immer wieder Konzerte und Veranstaltungen\, in denen er mit der Leier und seinem Monochord auftrat. Er wird das Museumsfest musikalisch begleiten und während der gesamten Ausstellungszeit an unterschiedlichen Stellen musizieren. Seine Leiermusik erfüllt die Räume mit einer angenehmen Atmosphäre\, die zum Lauschen einlädt\, aber nie aufdringlich wird. Keltische\, irische und eigene Melodien auf Leiern mit sechs bis acht Saiten sind angenehm zu hören und „kommen einem oft irgendwie bekannt vor“. Nicht wenige Besucher wundern sich\, dass man mit so wenig Saiten überhaupt Musik machen kann\, aber Musik hängt nicht von der Anzahl der Töne ab\, sondern von der Kreativität des Musikers\, der sie im Moment des Spielens erschafft. Der musikalische Höhepunkt wird ein ca. 30-minütiges Konzert sein: „in dem walde süeze doene – Eine Annäherung an die mittelalterliche Musik“. Neben mittelhochdeutschen Liedern und einigen Strophen aus dem Nibelungenlied werden keltische und irische Melodien auf der Leier und auf dem Monochord zu hören sein.\n    Der Alamannendarsteller Jürgen Heinritz aus Pleidelsheim lädt die Besucher um 14 und 16 Uhr zu einem kleinen Rundgang durch das Museum ein und erzählt etwas darüber\, wie aufwändig es ist\, Kleidung selbst herzustellen.\n    Natürlich ist auch wieder für das leibliche Wohl gesorgt. Das Angebot an warmen Speisen\, darunter auch vegetarische Gerichte\, und dem reichhaltigen Küchenbuffet am Nachmittag laden zum Verweilen im Museumshof ein.\n    Der Eintritt ist am Museumstag frei. \nDer Internationale Museumstag wurde 1977 vom Internationalen Museumsrat ICOM ins Leben gerufen und wird seit 1978 gefeiert. Seit 1992 wird der Tag von einem jährlich wechselnden Motto begleitet. In Deutschland wird der Internationale Museumstag stets an einem dem 18. Mai nahe gelegenen Sonntag gefeiert. \nNähere Informationen sind beim Museum unter Tel. 07961/969747 sowie im Internet unter www.museumstag.de und www.alamannenmuseum-ellwangen.de erhältlich. \nAlamannenmuseum Ellwangen\nHaller Straße 9\n73479 Ellwangen\nTelefon +49 7961 969747\nTelefax +49 7961 969749\nalamannenmuseum(@)ellwangen.de\nwww.alamannenmuseum-ellwangen.de
URL:https://ostalbkids.de/event/internat-museumstag-im-allamannenmusezm-ellwangen/
END:VEVENT
END:VCALENDAR