BEGIN:VCALENDAR
VERSION:2.0
PRODID:-//Ausflüge &amp; Veranstaltungen für Kinder im Ostalbkreis - ECPv6.15.20//NONSGML v1.0//EN
CALSCALE:GREGORIAN
METHOD:PUBLISH
X-WR-CALNAME:Ausflüge &amp; Veranstaltungen für Kinder im Ostalbkreis
X-ORIGINAL-URL:https://ostalbkids.de
X-WR-CALDESC:Veranstaltungen für Ausflüge &amp; Veranstaltungen für Kinder im Ostalbkreis
REFRESH-INTERVAL;VALUE=DURATION:PT1H
X-Robots-Tag:noindex
X-PUBLISHED-TTL:PT1H
BEGIN:VTIMEZONE
TZID:UTC
BEGIN:STANDARD
TZOFFSETFROM:+0000
TZOFFSETTO:+0000
TZNAME:UTC
DTSTART:20230101T000000
END:STANDARD
END:VTIMEZONE
BEGIN:VEVENT
DTSTART;TZID=UTC:20240215T140000
DTEND;TZID=UTC:20240215T163000
DTSTAMP:20260422T002636
CREATED:20240213T173016Z
LAST-MODIFIED:20240213T174225Z
UID:2076-1708005600-1708014600@ostalbkids.de
SUMMARY:Familiennachmittag im Limesmuseum\, Aalen
DESCRIPTION:Plastische Malerei im römischen Stil \nAm 15. Februar findet wieder ein Familiennachmittag im Limesmuseum statt. \nDem trüben Winterwetter treten wir mit bunten Farben und viel Spaß entgegen. \nFrische Farben verbreiten Frühlingsstimmung\, deshalb werden wir uns dieses Mal im Reich der bildenden Kunst bewegen. Mit Schablonen von römischen Motiven bekommt jeder die Chance\, ein kleines Meisterwerk zu schaffen und dieses zudem mit tollen Stuckornamenten und echten Marmormosaiksteinen plastisch zu verzieren. Die Führung nimmt an diesem Nachmittag besonders die Museumsobjekte in den Blick\, die den Kunstsinn der Antike ansprechen. \nMuseumskino und römische Kleiderecke können wie immer ebenfalls gern genutzt werden. \nKosten: 4\,–€ für Material plus Museumseintritt (6\,– Erwachsene\, 4\,–€ reduziert\, 13\,50\,–€ Familienkarte) \nEine telefonische Anmeldung unter 07361-5282870 oder per Mail unter limesmuseum@aalen.de ist wichtig. \nTeilnehmerkreis: Eltern mit Kindern ab 8 Jahren
URL:https://ostalbkids.de/event/familiennachmittag-im-limesmuseum-aalen/
LOCATION:Limesmuseum Aalen\, St.-Johann-Straße 5\, Aalen\, 73430\, Deutschland
END:VEVENT
END:VCALENDAR