BEGIN:VCALENDAR
VERSION:2.0
PRODID:-//Ausflüge &amp; Veranstaltungen für Kinder im Ostalbkreis - ECPv6.15.20//NONSGML v1.0//EN
CALSCALE:GREGORIAN
METHOD:PUBLISH
X-ORIGINAL-URL:https://ostalbkids.de
X-WR-CALDESC:Veranstaltungen für Ausflüge &amp; Veranstaltungen für Kinder im Ostalbkreis
REFRESH-INTERVAL;VALUE=DURATION:PT1H
X-Robots-Tag:noindex
X-PUBLISHED-TTL:PT1H
BEGIN:VTIMEZONE
TZID:UTC
BEGIN:STANDARD
TZOFFSETFROM:+0000
TZOFFSETTO:+0000
TZNAME:UTC
DTSTART:20220101T000000
END:STANDARD
END:VTIMEZONE
BEGIN:VEVENT
DTSTART;VALUE=DATE:20231203
DTEND;VALUE=DATE:20240103
DTSTAMP:20260422T020807
CREATED:20231207T124307Z
LAST-MODIFIED:20231207T124307Z
UID:1944-1701561600-1704239999@ostalbkids.de
SUMMARY:Krippenweg in Herdtlinsweiler
DESCRIPTION:In Herdtlinsweiler stehen die Krippen immer vom 1. Advent bis Lichtmess. Zwar nur ein kurzer Weg aber schöne Krippen.
URL:https://ostalbkids.de/event/krippenweg-in-herdtlinsweiler/
LOCATION:Herdtlinsweiler\, Herdtlinsweiler\, Germany
END:VEVENT
BEGIN:VEVENT
DTSTART;VALUE=DATE:20231208
DTEND;VALUE=DATE:20240205
DTSTAMP:20260422T020807
CREATED:20231203T182351Z
LAST-MODIFIED:20231203T182800Z
UID:1923-1701993600-1707091199@ostalbkids.de
SUMMARY:Eispark Aalen
DESCRIPTION:Eislaufbahn der Stadtwerke Aalen neben dem Rathaus.\nErwachsene 5\,50 €\nKinder 2\,50 – 4\,00 €\nLeihschlittschuhe 3€
URL:https://ostalbkids.de/event/eispark-aalen/
LOCATION:Rathaus Aalen\, Marktplatz 1\, Aalen\, 73430\, Deutschland
END:VEVENT
BEGIN:VEVENT
DTSTART;VALUE=DATE:20231221
DTEND;VALUE=DATE:20240108
DTSTAMP:20260422T020807
CREATED:20231228T093647Z
LAST-MODIFIED:20231228T093647Z
UID:1978-1703116800-1704671999@ostalbkids.de
SUMMARY:Weihnachtszirkus\, Ulm
DESCRIPTION:Weihnachtszirkus in Ulm in der Friedrichsau\nBereits zum 14. Mal heißt es „Manege frei“ für die beliebteste Weihnachtscircus-Show der Region! \nWie der Weihnachtsmarkt\, die zauberhafte Altstadt\, das malerische Fischerviertel und das Ulmer Münster gehört unsere beliebte Circusshow einfach schon fest zur Weihnachtstradition! \nZum 14-jährigen Bestehen präsentieren wir Ihnen die „Creme de la Creme“ aus der internationalen Circuswelt\, mit Artisten aus ganz Europa\, Südamerika und aus der Ukraine! Das Beste ist uns gerade gut genug für unser treues\, fachkundiges und begeisterungsfähiges Publikum voller Herzlichkeit. \nFreuen Sie sich auf eine völlig neue\, speziell für die Winterspielzeit in Ulm zusammengestellte Show und erleben Sie viele einzigartige und faszinierende Darbietungen von absoluter internationaler Spitzenklasse! \nNun ist es endlich wieder soweit: Die besten und erfolgreichsten Artisten der Welt reisen zur Weihnachtszeit nach Ulm\, darunter Preisträger des legendären „Internationalen Circus Festivals von Monte Carlo“\, wie die weltbekannte Artistentrupe „The Gerlings“\, edle Tiere\, wahre Meister der Clownerie aus Spanien und jede Menge Überraschungen im schönsten Weihnachts-Ambiente. Die Zeltanlagen des Ulmer Weihnachtscircus werden wieder ein „Winter Wonderland“ voller Glanz\, Glamour\, Spaß mit einer Show\, die man einfach nicht verpassen sollte.\ntäglich 15:30 und 19:30\nhttps://www.ulmer-weihnachtscircus.de/
URL:https://ostalbkids.de/event/weihnachtszirkus-ulm/
END:VEVENT
END:VCALENDAR