BEGIN:VCALENDAR
VERSION:2.0
PRODID:-//Ausflüge &amp; Veranstaltungen für Kinder im Ostalbkreis - ECPv6.15.20//NONSGML v1.0//EN
CALSCALE:GREGORIAN
METHOD:PUBLISH
X-ORIGINAL-URL:https://ostalbkids.de
X-WR-CALDESC:Veranstaltungen für Ausflüge &amp; Veranstaltungen für Kinder im Ostalbkreis
REFRESH-INTERVAL;VALUE=DURATION:PT1H
X-Robots-Tag:noindex
X-PUBLISHED-TTL:PT1H
BEGIN:VTIMEZONE
TZID:UTC
BEGIN:STANDARD
TZOFFSETFROM:+0000
TZOFFSETTO:+0000
TZNAME:UTC
DTSTART:20220101T000000
END:STANDARD
END:VTIMEZONE
BEGIN:VEVENT
DTSTART;TZID=UTC:20231109T100000
DTEND;TZID=UTC:20231111T163000
DTSTAMP:20260422T050558
CREATED:20231028T071653Z
LAST-MODIFIED:20231028T072643Z
UID:1784-1699524000-1699720200@ostalbkids.de
SUMMARY:Turni Tobi Halle\, Aalen
DESCRIPTION:Turni-Tobe-Halle\nKinder bewegen sich Im Rahmen des Projektes „Ostalb bewegt Kinder“ lädt der Turngau Ostwürttemberg in Kooperation mit der Stadt Aalen und der Aalener Sportallianz nach dem Erfolg in den letzten Jahren auch 2023 in die Ulrich-Pfeifle-Halle ein!\nZum Klettern\, Hangeln\, Krabbeln\, Kriechen\, Schwingen\, Hüpfen\, Turnen\, Toben…. werden für die Gruppen verschiedene Bewegungslandschaften aufgebaut sein. \nWER\nHerzlich eingeladen sind alle Sportgruppen der Vereine des Turngau Ostwürttemberg mit ihren Übungsleiter*innen\, sowie alle Aalener Kinder.\nMITBRINGEN\nFür die Teilnahme an der Veranstaltung werden Sportkleidung und Turnschuhe/Turnschläppchen benötigt
URL:https://ostalbkids.de/event/turni-tobi-halle/
LOCATION:Ulrich-Pfeifle-Halle Aalen\, Parkstr.15\, Aalen\, 73430\, Deutschland
END:VEVENT
END:VCALENDAR