BEGIN:VCALENDAR
VERSION:2.0
PRODID:-//Ausflüge &amp; Veranstaltungen für Kinder im Ostalbkreis - ECPv6.15.20//NONSGML v1.0//EN
CALSCALE:GREGORIAN
METHOD:PUBLISH
X-ORIGINAL-URL:https://ostalbkids.de
X-WR-CALDESC:Veranstaltungen für Ausflüge &amp; Veranstaltungen für Kinder im Ostalbkreis
REFRESH-INTERVAL;VALUE=DURATION:PT1H
X-Robots-Tag:noindex
X-PUBLISHED-TTL:PT1H
BEGIN:VTIMEZONE
TZID:UTC
BEGIN:STANDARD
TZOFFSETFROM:+0000
TZOFFSETTO:+0000
TZNAME:UTC
DTSTART:20220101T000000
END:STANDARD
END:VTIMEZONE
BEGIN:VEVENT
DTSTART;TZID=UTC:20231103T173000
DTEND;TZID=UTC:20231103T183000
DTSTAMP:20260422T051228
CREATED:20231102T170533Z
LAST-MODIFIED:20231102T170533Z
UID:1824-1699032600-1699036200@ostalbkids.de
SUMMARY:Kinder-Kostüme im Schlossmuseum Ellwangen
DESCRIPTION:m Freitag\, 3. November findet um 17:30 Uhr ein besonderes Programm für Kinder im Alter von 6 bis 12 Jahren im Schloss Ellwangen statt. Bei dieser Führung dürfen die Kinder in historisch-nachgearbeiteten Kostümen als Fürstpropst\, Kammerzofe\, Hofmarschall oder Prinzessin durch das Schloss schreiten. Dabei werden ausgesuchte Räume in der Residenz aufgesucht und die Kinder erfahren vieles über die ehemaligen Regenten und das Leben bei Hofe. \nDa die Teilnehmerzahl begrenzt ist\, ist eine Anmeldung per Email: info[at]schlossmuseum-ellwangen.de erforderlich. Die Gebühr beträgt 8 €.
URL:https://ostalbkids.de/event/kinder-kostueme-im-schlossmuseum-ellwangen/
END:VEVENT
END:VCALENDAR