BEGIN:VCALENDAR
VERSION:2.0
PRODID:-//Ausflüge &amp; Veranstaltungen für Kinder im Ostalbkreis - ECPv6.15.20//NONSGML v1.0//EN
CALSCALE:GREGORIAN
METHOD:PUBLISH
X-ORIGINAL-URL:https://ostalbkids.de
X-WR-CALDESC:Veranstaltungen für Ausflüge &amp; Veranstaltungen für Kinder im Ostalbkreis
REFRESH-INTERVAL;VALUE=DURATION:PT1H
X-Robots-Tag:noindex
X-PUBLISHED-TTL:PT1H
BEGIN:VTIMEZONE
TZID:UTC
BEGIN:STANDARD
TZOFFSETFROM:+0000
TZOFFSETTO:+0000
TZNAME:UTC
DTSTART:20220101T000000
END:STANDARD
END:VTIMEZONE
BEGIN:VEVENT
DTSTART;TZID=UTC:20230916T133000
DTEND;TZID=UTC:20230916T163000
DTSTAMP:20260422T080001
CREATED:20230821T050139Z
LAST-MODIFIED:20230821T050330Z
UID:1602-1694871000-1694881800@ostalbkids.de
SUMMARY:Kinderflohmarkt Essingen
DESCRIPTION:Flohmarkt für Kindersachen.\nVerkauft von Schülern\, die den Erlös behalten dürfen.\nEs gibt Kuchen und Kaffee. \nEssinger Kinder können verkaufen. Anmeldung: foerderverein@parkschule-essingen.de
URL:https://ostalbkids.de/event/kinderflohmarkt-essingen/
LOCATION:Parkschule Essingen
END:VEVENT
END:VCALENDAR